Workbook
Name PI: #REF!
Name UCFPI: #REF!

Sheet Cumulative Budget
A2: (Unhide Columns R-AH for Cost Share Budget) | O2: Cost Share Budget
G3: College | H3: Cred Split | I3: TITLE: | J3: =+'PI Budget'!F4:R5 -> #VALUE! | U3: Cred Split | V3: IDC Spilt | W3: TITLE:
A4: PI NAME: | B4: =+'PI Budget'!B5:E5 -> 0 | O4: PI NAME:
A5: CO-PI #1 NAME: | B5: =+'PI Budget'!B6:E6 -> 0 | I5: SPONSOR: | O5: CO-PI #1 NAME: | W5: SPONSOR:
A6: CO-PI #2 NAME: | B6: =+'PI Budget'!B7:E7 -> 0 | I6: POP: | J6: =+'PI Budget'!#REF! -> #REF! | K6: to | L6: =+'PI Budget'!R7 -> 0
A7: CO-PI #3 NAME: | B7: =+'PI Budget'!B8:E8 -> 0
A8: CO-PI #4 NAME: | B8: =+'PI Budget'!B9:E9 -> 0 | I8: MAX BUDGET: | K8: YEARS:
A9: CO-PI #5 NAME: | B9: =+'PI Budget'!B10:E10 -> 0 | I9: LIMITATIONS: | O9: CO-PI #2 NAME: | W9: POP:
A11: SPONSOR BUDGET | O11: SPONSOR BUDGET
A14: Personnel | B14: Effort % | C14: Months | D14: Fall | E14: Spr | F14: Sum | G14: Year 1 | H14: Year 2 | I14: Year 3 | J14: Year 4 | K14: Year 5 | L14: Total | O14: Personnel | P14: Effort % | Q14: Months | R14: Fall | S14: Spr | T14: Sum | U14: Year 1 | V14: Year 2 | W14: Year 3 | X14: Year 4 | Y14: Year 5 | Z14: Total | AB14: Salary | AC14: Contract | AD14: Monthly
A15: =+B4 -> 0 | B15: =+'PI Budget'!B16+'College 2'!B15+'College 3'!B15+'College 4'!B15+'College 5'!B15 -> 0 | C15: =+'PI Budget'!C16+'College 2'!C15+'College 3'!C15+'College 4'!C15+'College 5'!C15 -> 0 | D15: =+'PI Budget'!D16+'College 2'!D15+'College 3'!D15+'College 4'!D15+'College 5'!D15 -> 0 | E15: =+'PI Budget'!E16+'College 2'!E15+'College 3'!E15+'College 4'!E15+'College 5'!E15 -> 0 | F15: =+'PI Budget'!F16+'College 2'!F15+'College 3'!F15+'College 4'!F15+'College 5'!F15 -> 0 | G15: =+'PI Budget'!G16+'College 2'!G15+'College 3'!G15+'College 4'!G15+'College 5'!G15 -> 0 | H15: =+'PI Budget'!I16+'College 2'!H15+'College 3'!H15+'College 4'!H15+'College 5'!H15 -> 0 | I15: =+'PI Budget'!K16+'College 2'!I15+'College 3'!I15+'College 4'!I15+'College 5'!I15 -> 0 | J15: =+'PI Budget'!M16+'College 2'!J15+'College 3'!J15+'College 4'!J15+'College 5'!J15 -> 0 | K15: =+'PI Budget'!O16+'College 2'!K15+'College 3'!K15+'College 4'!K15+'College 5'!K15 -> 0 | L15: =SUM(G15:K15) -> 0 | O15: =+P4 -> 0 | P15: =+Q15/AC15 -> 0 | Q15: =+T15+S15+R15 -> 0 | R15: 0 | U15: =+Q15*AD15 -> 0 | V15: =+U15*1.03 -> 0 | W15: =+V15*1.03 -> 0 | X15: =+W15*1.03 -> 0 | Y15: =+X15*1.03 -> 0 | Z15: =SUM(U15:Y15) -> 0 | AB15: 10000 | AC15: 9 | AD15: =+AB15/AC15 -> 1111.1111
A16: =+B5 -> 0 | B16: =+'PI Budget'!B17+'College 2'!B16+'College 3'!B16+'College 4'!B16+'College 5'!B16 -> 0 | C16: =+'PI Budget'!C17+'College 2'!C16+'College 3'!C16+'College 4'!C16+'College 5'!C16 -> 0 | D16: =+'PI Budget'!D17+'College 2'!D16+'College 3'!D16+'College 4'!D16+'College 5'!D16 -> 0 | E16: =+'PI Budget'!E17+'College 2'!E16+'College 3'!E16+'College 4'!E16+'College 5'!E16 -> 0 | F16: =+'PI Budget'!F17+'College 2'!F16+'College 3'!F16+'College 4'!F16+'College 5'!F16 -> 0 | G16: =+'PI Budget'!G17+'College 2'!G16+'College 3'!G16+'College 4'!G16+'College 5'!G16 -> 0 | H16: =+'PI Budget'!I17+'College 2'!H16+'College 3'!H16+'College 4'!H16+'College 5'!H16 -> 0 | I16: =+'PI Budget'!K17+'College 2'!I16+'College 3'!I16+'College 4'!I16+'College 5'!I16 -> 0 | J16: =+'PI Budget'!M17+'College 2'!J16+'College 3'!J16+'College 4'!J16+'College 5'!J16 -> 0 | K16: =+'PI Budget'!O17+'College 2'!K16+'College 3'!K16+'College 4'!K16+'College 5'!K16 -> 0 | L16: =SUM(G16:K16) -> 0 | O16: =+P5 -> 0 | P16: =+Q16/AC16 -> 0 | Q16: =+T16+S16+R16 -> 0 | U16: =+Q16*AD16 -> 0 | V16: =+U16*1.03 -> 0 | W16: =+V16*1.03 -> 0 | X16: =+W16*1.03 -> 0 | Y16: =+X16*1.03 -> 0 | Z16: =SUM(U16:Y16) -> 0 | AB16: 0 | AC16: 9 | AD16: =+AB16/AC16 -> 0
A17: =+B6 -> 0 | B17: =+'PI Budget'!B18+'College 2'!B17+'College 3'!B17+'College 4'!B17+'College 5'!B17 -> 0 | C17: =+'PI Budget'!C18+'College 2'!C17+'College 3'!C17+'College 4'!C17+'College 5'!C17 -> 0 | D17: =+'PI Budget'!D18+'College 2'!D17+'College 3'!D17+'College 4'!D17+'College 5'!D17 -> 0 | E17: =+'PI Budget'!E18+'College 2'!E17+'College 3'!E17+'College 4'!E17+'College 5'!E17 -> 0 | F17: =+'PI Budget'!F18+'College 2'!F17+'College 3'!F17+'College 4'!F17+'College 5'!F17 -> 0 | G17: =+'PI Budget'!G18+'College 2'!G17+'College 3'!G17+'College 4'!G17+'College 5'!G17 -> 0 | H17: =+'PI Budget'!I18+'College 2'!H17+'College 3'!H17+'College 4'!H17+'College 5'!H17 -> 0 | I17: =+'PI Budget'!K18+'College 2'!I17+'College 3'!I17+'College 4'!I17+'College 5'!I17 -> 0 | J17: =+'PI Budget'!M18+'College 2'!J17+'College 3'!J17+'College 4'!J17+'College 5'!J17 -> 0 | K17: =+'PI Budget'!O18+'College 2'!K17+'College 3'!K17+'College 4'!K17+'College 5'!K17 -> 0 | L17: =SUM(G17:K17) -> 0 | O17: =+P9 -> 0 | P17: =+Q17/AC17 -> 0 | Q17: =+T17+S17+R17 -> 0 | U17: =+Q17*AD17 -> 0 | V17: =+U17*1.03 -> 0 | W17: =+V17*1.03 -> 0 | X17: =+W17*1.03 -> 0 | Y17: =+X17*1.03 -> 0 | Z17: =SUM(U17:Y17) -> 0 | AB17: 0 | AC17: 9 | AD17: =+AB17/AC17 -> 0
A18: =+B7 -> 0 | B18: =+'PI Budget'!B19+'College 2'!B18+'College 3'!B18+'College 4'!B18+'College 5'!B18 -> 0 | C18: =+'PI Budget'!C19+'College 2'!C18+'College 3'!C18+'College 4'!C18+'College 5'!C18 -> 0 | D18: =+'PI Budget'!D19+'College 2'!D18+'College 3'!D18+'College 4'!D18+'College 5'!D18 -> 0 | E18: =+'PI Budget'!E19+'College 2'!E18+'College 3'!E18+'College 4'!E18+'College 5'!E18 -> 0 | F18: =+'PI Budget'!F19+'College 2'!F18+'College 3'!F18+'College 4'!F18+'College 5'!F18 -> 0 | G18: =+'PI Budget'!G19+'College 2'!G18+'College 3'!G18+'College 4'!G18+'College 5'!G18 -> 0 | H18: =+'PI Budget'!I19+'College 2'!H18+'College 3'!H18+'College 4'!H18+'College 5'!H18 -> 0 | I18: =+'PI Budget'!K19+'College 2'!I18+'College 3'!I18+'College 4'!I18+'College 5'!I18 -> 0 | J18: =+'PI Budget'!M19+'College 2'!J18+'College 3'!J18+'College 4'!J18+'College 5'!J18 -> 0 | K18: =+'PI Budget'!O19+'College 2'!K18+'College 3'!K18+'College 4'!K18+'College 5'!K18 -> 0 | L18: =SUM(G18:K18) -> 0 | P18: =+Q18/AC18 -> 0 | Q18: =+T18+S18+R18 -> 0 | U18: =+Q18*AD18 -> 0 | V18: =+U18*1.03 -> 0 | W18: =+V18*1.03 -> 0 | X18: =+W18*1.03 -> 0 | Y18: =+X18*1.03 -> 0 | Z18: =SUM(U18:Y18) -> 0 | AB18: 0 | AC18: 9 | AD18: =+AB18/AC18 -> 0
A19: =+B8 -> 0 | B19: =+'PI Budget'!B20+'College 2'!B19+'College 3'!B19+'College 4'!B19+'College 5'!B19 -> 0 | C19: =+'PI Budget'!C20+'College 2'!C19+'College 3'!C19+'College 4'!C19+'College 5'!C19 -> 0 | D19: =+'PI Budget'!D20+'College 2'!D19+'College 3'!D19+'College 4'!D19+'College 5'!D19 -> 0 | E19: =+'PI Budget'!E20+'College 2'!E19+'College 3'!E19+'College 4'!E19+'College 5'!E19 -> 0 | F19: =+'PI Budget'!F20+'College 2'!F19+'College 3'!F19+'College 4'!F19+'College 5'!F19 -> 0 | G19: =+'PI Budget'!G20+'College 2'!G19+'College 3'!G19+'College 4'!G19+'College 5'!G19 -> 0 | H19: =+'PI Budget'!I20+'College 2'!H19+'College 3'!H19+'College 4'!H19+'College 5'!H19 -> 0 | I19: =+'PI Budget'!K20+'College 2'!I19+'College 3'!I19+'College 4'!I19+'College 5'!I19 -> 0 | J19: =+'PI Budget'!M20+'College 2'!J19+'College 3'!J19+'College 4'!J19+'College 5'!J19 -> 0 | K19: =+'PI Budget'!O20+'College 2'!K19+'College 3'!K19+'College 4'!K19+'College 5'!K19 -> 0 | L19: =SUM(G19:K19) -> 0 | P19: =+Q19/AC19 -> 0 | Q19: =+T19+S19+R19 -> 0 | U19: =+Q19*AD19 -> 0 | V19: =+U19*1.03 -> 0 | W19: =+V19*1.03 -> 0 | X19: =+W19*1.03 -> 0 | Y19: =+X19*1.03 -> 0 | Z19: =SUM(U19:Y19) -> 0 | AB19: 0 | AC19: 9 | AD19: =+AB19/AC19 -> 0
A20: =+B9 -> 0 | B20: =+'PI Budget'!B21+'College 2'!B20+'College 3'!B20+'College 4'!B20+'College 5'!B20 -> 0 | C20: =+'PI Budget'!C21+'College 2'!C20+'College 3'!C20+'College 4'!C20+'College 5'!C20 -> 0 | D20: =+'PI Budget'!D21+'College 2'!D20+'College 3'!D20+'College 4'!D20+'College 5'!D20 -> 0 | E20: =+'PI Budget'!E21+'College 2'!E20+'College 3'!E20+'College 4'!E20+'College 5'!E20 -> 0 | F20: =+'PI Budget'!F21+'College 2'!F20+'College 3'!F20+'College 4'!F20+'College 5'!F20 -> 0 | G20: =+'PI Budget'!G21+'College 2'!G20+'College 3'!G20+'College 4'!G20+'College 5'!G20 -> 0 | H20: =+'PI Budget'!I21+'College 2'!H20+'College 3'!H20+'College 4'!H20+'College 5'!H20 -> 0 | I20: =+'PI Budget'!K21+'College 2'!I20+'College 3'!I20+'College 4'!I20+'College 5'!I20 -> 0 | J20: =+'PI Budget'!M21+'College 2'!J20+'College 3'!J20+'College 4'!J20+'College 5'!J20 -> 0 | K20: =+'PI Budget'!O21+'College 2'!K20+'College 3'!K20+'College 4'!K20+'College 5'!K20 -> 0 | L20: =SUM(G20:K20) -> 0 | P20: =+Q20/AC20 -> 0 | Q20: =+T20+S20+R20 -> 0 | U20: =+Q20*AD20 -> 0 | V20: =+U20*1.03 -> 0 | W20: =+V20*1.03 -> 0 | X20: =+W20*1.03 -> 0 | Y20: =+X20*1.03 -> 0 | Z20: =SUM(U20:Y20) -> 0 | AB20: 0 | AC20: 9 | AD20: =+AB20/AC20 -> 0
A21: =+'PI Budget'!A23 -> A&P | B21: =+'PI Budget'!B23+'College 2'!B21+'College 3'!B21+'College 4'!B21+'College 5'!B21 -> 0 | C21: =+'PI Budget'!C23+'College 2'!C21+'College 3'!C21+'College 4'!C21+'College 5'!C21 -> 0 | G21: =+'PI Budget'!G23+'College 2'!G21+'College 3'!G21+'College 4'!G21+'College 5'!G21 -> 0 | H21: =+'PI Budget'!I23+'College 2'!H21+'College 3'!H21+'College 4'!H21+'College 5'!H21 -> 0 | I21: =+'PI Budget'!K23+'College 2'!I21+'College 3'!I21+'College 4'!I21+'College 5'!I21 -> 0 | J21: =+'PI Budget'!M23+'College 2'!J21+'College 3'!J21+'College 4'!J21+'College 5'!J21 -> 0 | K21: =+'PI Budget'!O23+'College 2'!K21+'College 3'!K21+'College 4'!K21+'College 5'!K21 -> 0 | L21: =SUM(G21:K21) -> 0
A22: =+'PI Budget'!A24 -> A&P | B22: =+'PI Budget'!B24+'College 2'!B22+'College 3'!B22+'College 4'!B22+'College 5'!B22 -> 0 | C22: =+'PI Budget'!C24+'College 2'!C22+'College 3'!C22+'College 4'!C22+'College 5'!C22 -> 0 | G22: =+'PI Budget'!G24+'College 2'!G22+'College 3'!G22+'College 4'!G22+'College 5'!G22 -> 0 | H22: =+'PI Budget'!I24+'College 2'!H22+'College 3'!H22+'College 4'!H22+'College 5'!H22 -> 0 | I22: =+'PI Budget'!K24+'College 2'!I22+'College 3'!I22+'College 4'!I22+'College 5'!I22 -> 0 | J22: =+'PI Budget'!M24+'College 2'!J22+'College 3'!J22+'College 4'!J22+'College 5'!J22 -> 0 | K22: =+'PI Budget'!O24+'College 2'!K22+'College 3'!K22+'College 4'!K22+'College 5'!K22 -> 0 | L22: =SUM(G22:K22) -> 0
A23: =+'PI Budget'!A25 -> A&P | B23: =+'PI Budget'!B25+'College 2'!B23+'College 3'!B23+'College 4'!B23+'College 5'!B23 -> 0 | C23: =+'PI Budget'!C25+'College 2'!C23+'College 3'!C23+'College 4'!C23+'College 5'!C23 -> 0 | G23: =+'PI Budget'!G25+'College 2'!G23+'College 3'!G23+'College 4'!G23+'College 5'!G23 -> 0 | H23: =+'PI Budget'!I25+'College 2'!H23+'College 3'!H23+'College 4'!H23+'College 5'!H23 -> 0 | I23: =+'PI Budget'!K25+'College 2'!I23+'College 3'!I23+'College 4'!I23+'College 5'!I23 -> 0 | J23: =+'PI Budget'!M25+'College 2'!J23+'College 3'!J23+'College 4'!J23+'College 5'!J23 -> 0 | K23: =+'PI Budget'!O25+'College 2'!K23+'College 3'!K23+'College 4'!K23+'College 5'!K23 -> 0 | L23: =SUM(G23:K23) -> 0 | O23: A&P | P23: =+Q23/AC23 -> 0 | Q23: =+R23+S23+T23 -> 0 | U23: 0 | V23: =+U23*1.03 -> 0 | W23: =+V23*1.03 -> 0 | X23: =+W23*1.03 -> 0 | Y23: =+X23*1.03 -> 0 | Z23: =SUM(U23:Y23) -> 0 | AB23: 0 | AC23: 12 | AD23: =+AB23/AC23 -> 0
A24: =+'PI Budget'!A26 -> USPS | B24: =+'PI Budget'!B26+'College 2'!B24+'College 3'!B24+'College 4'!B24+'College 5'!B24 -> 0 | C24: =+'PI Budget'!C26+'College 2'!C24+'College 3'!C24+'College 4'!C24+'College 5'!C24 -> 0 | G24: =+'PI Budget'!G26+'College 2'!G24+'College 3'!G24+'College 4'!G24+'College 5'!G24 -> 0 | H24: =+'PI Budget'!I26+'College 2'!H24+'College 3'!H24+'College 4'!H24+'College 5'!H24 -> 0 | I24: =+'PI Budget'!K26+'College 2'!I24+'College 3'!I24+'College 4'!I24+'College 5'!I24 -> 0 | J24: =+'PI Budget'!M26+'College 2'!J24+'College 3'!J24+'College 4'!J24+'College 5'!J24 -> 0 | K24: =+'PI Budget'!O26+'College 2'!K24+'College 3'!K24+'College 4'!K24+'College 5'!K24 -> 0 | L24: =SUM(G24:K24) -> 0 | O24: USPS | P24: =+Q24/AC24 -> 0 | Q24: =+R24+S24+T24 -> 0 | U24: 0 | V24: =+U24*1.03 -> 0 | W24: =+V24*1.03 -> 0 | X24: =+W24*1.03 -> 0 | Y24: =+X24*1.03 -> 0 | Z24: =SUM(U24:Y24) -> 0 | AB24: 0 | AC24: 12 | AD24: =+AB24/AC24 -> 0
A25: =+'PI Budget'!A27 -> Post Doc | B25: =+'PI Budget'!B27+'College 2'!B25+'College 3'!B25+'College 4'!B25+'College 5'!B25 -> 0 | C25: =+'PI Budget'!C27+'College 2'!C25+'College 3'!C25+'College 4'!C25+'College 5'!C25 -> 0 | G25: =+'PI Budget'!G27+'College 2'!G25+'College 3'!G25+'College 4'!G25+'College 5'!G25 -> 0 | H25: =+'PI Budget'!I27+'College 2'!H25+'College 3'!H25+'College 4'!H25+'College 5'!H25 -> 0 | I25: =+'PI Budget'!K27+'College 2'!I25+'College 3'!I25+'College 4'!I25+'College 5'!I25 -> 0 | J25: =+'PI Budget'!M27+'College 2'!J25+'College 3'!J25+'College 4'!J25+'College 5'!J25 -> 0 | K25: =+'PI Budget'!O27+'College 2'!K25+'College 3'!K25+'College 4'!K25+'College 5'!K25 -> 0 | L25: =SUM(G25:K25) -> 0 | O25: Post Doc | P25: =+Q25/AC25 -> 0 | Q25: =+R25+S25+T25 -> 0 | U25: 0 | V25: =+U25*1.03 -> 0 | W25: =+V25*1.03 -> 0 | X25: =+W25*1.03 -> 0 | Y25: =+X25*1.03 -> 0 | Z25: =SUM(U25:Y25) -> 0 | AB25: 0 | AC25: 12 | AD25: =+AB25/AC25 -> 0
A26: =+'PI Budget'!A28 -> OPS | B26: =+'PI Budget'!B28+'College 2'!B26+'College 3'!B26+'College 4'!B26+'College 5'!B26 -> 0 | C26: =+'PI Budget'!C28+'College 2'!C26+'College 3'!C26+'College 4'!C26+'College 5'!C26 -> 0 | G26: =+'PI Budget'!G28+'College 2'!G26+'College 3'!G26+'College 4'!G26+'College 5'!G26 -> 0 | H26: =+'PI Budget'!I28+'College 2'!H26+'College 3'!H26+'College 4'!H26+'College 5'!H26 -> 0 | I26: =+'PI Budget'!K28+'College 2'!I26+'College 3'!I26+'College 4'!I26+'College 5'!I26 -> 0 | J26: =+'PI Budget'!M28+'College 2'!J26+'College 3'!J26+'College 4'!J26+'College 5'!J26 -> 0 | K26: =+'PI Budget'!O28+'College 2'!K26+'College 3'!K26+'College 4'!K26+'College 5'!K26 -> 0 | L26: =SUM(G26:K26) -> 0
A27: =+'PI Budget'!A29 -> OPS | B27: =+'PI Budget'!B29+'College 2'!B27+'College 3'!B27+'College 4'!B27+'College 5'!B27 -> 0 | C27: =+'PI Budget'!C29+'College 2'!C27+'College 3'!C27+'College 4'!C27+'College 5'!C27 -> 0 | G27: =+'PI Budget'!G29+'College 2'!G27+'College 3'!G27+'College 4'!G27+'College 5'!G27 -> 0 | H27: =+'PI Budget'!I29+'College 2'!H27+'College 3'!H27+'College 4'!H27+'College 5'!H27 -> 0 | I27: =+'PI Budget'!K29+'College 2'!I27+'College 3'!I27+'College 4'!I27+'College 5'!I27 -> 0 | J27: =+'PI Budget'!M29+'College 2'!J27+'College 3'!J27+'College 4'!J27+'College 5'!J27 -> 0 | K27: =+'PI Budget'!O29+'College 2'!K27+'College 3'!K27+'College 4'!K27+'College 5'!K27 -> 0 | L27: =SUM(G27:K27) -> 0
A28: =+'PI Budget'!A30 -> OPS | B28: =+'PI Budget'!B30+'College 2'!B28+'College 3'!B28+'College 4'!B28+'College 5'!B28 -> 0 | C28: =+'PI Budget'!C30+'College 2'!C28+'College 3'!C28+'College 4'!C28+'College 5'!C28 -> 0 | G28: =+'PI Budget'!G30+'College 2'!G28+'College 3'!G28+'College 4'!G28+'College 5'!G28 -> 0 | H28: =+'PI Budget'!I30+'College 2'!H28+'College 3'!H28+'College 4'!H28+'College 5'!H28 -> 0 | I28: =+'PI Budget'!K30+'College 2'!I28+'College 3'!I28+'College 4'!I28+'College 5'!I28 -> 0 | J28: =+'PI Budget'!M30+'College 2'!J28+'College 3'!J28+'College 4'!J28+'College 5'!J28 -> 0 | K28: =+'PI Budget'!O30+'College 2'!K28+'College 3'!K28+'College 4'!K28+'College 5'!K28 -> 0 | L28: =SUM(G28:K28) -> 0
A29: =+'PI Budget'!A31 -> OPS | B29: =+'PI Budget'!B31+'College 2'!B29+'College 3'!B29+'College 4'!B29+'College 5'!B29 -> 0 | C29: =+'PI Budget'!C31+'College 2'!C29+'College 3'!C29+'College 4'!C29+'College 5'!C29 -> 0 | G29: =+'PI Budget'!G31+'College 2'!G29+'College 3'!G29+'College 4'!G29+'College 5'!G29 -> 0 | H29: =+'PI Budget'!I31+'College 2'!H29+'College 3'!H29+'College 4'!H29+'College 5'!H29 -> 0 | I29: =+'PI Budget'!K31+'College 2'!I29+'College 3'!I29+'College 4'!I29+'College 5'!I29 -> 0 | J29: =+'PI Budget'!M31+'College 2'!J29+'College 3'!J29+'College 4'!J29+'College 5'!J29 -> 0 | K29: =+'PI Budget'!O31+'College 2'!K29+'College 3'!K29+'College 4'!K29+'College 5'!K29 -> 0 | L29: =SUM(G29:K29) -> 0
A30: =+'PI Budget'!A32 -> OPS | B30: =+'PI Budget'!B32+'College 2'!B30+'College 3'!B30+'College 4'!B30+'College 5'!B30 -> 0 | C30: =+'PI Budget'!C32+'College 2'!C30+'College 3'!C30+'College 4'!C30+'College 5'!C30 -> 0 | G30: =+'PI Budget'!G32+'College 2'!G30+'College 3'!G30+'College 4'!G30+'College 5'!G30 -> 0 | H30: =+'PI Budget'!I32+'College 2'!H30+'College 3'!H30+'College 4'!H30+'College 5'!H30 -> 0 | I30: =+'PI Budget'!K32+'College 2'!I30+'College 3'!I30+'College 4'!I30+'College 5'!I30 -> 0 | J30: =+'PI Budget'!M32+'College 2'!J30+'College 3'!J30+'College 4'!J30+'College 5'!J30 -> 0 | K30: =+'PI Budget'!O32+'College 2'!K30+'College 3'!K30+'College 4'!K30+'College 5'!K30 -> 0 | L30: =SUM(G30:K30) -> 0
A31: =+'PI Budget'!A33 -> OPS | B31: =+'PI Budget'!B33+'College 2'!B31+'College 3'!B31+'College 4'!B31+'College 5'!B31 -> 0 | C31: =+'PI Budget'!C33+'College 2'!C31+'College 3'!C31+'College 4'!C31+'College 5'!C31 -> 0 | G31: =+'PI Budget'!G33+'College 2'!G31+'College 3'!G31+'College 4'!G31+'College 5'!G31 -> 0 | H31: =+'PI Budget'!I33+'College 2'!H31+'College 3'!H31+'College 4'!H31+'College 5'!H31 -> 0 | I31: =+'PI Budget'!K33+'College 2'!I31+'College 3'!I31+'College 4'!I31+'College 5'!I31 -> 0 | J31: =+'PI Budget'!M33+'College 2'!J31+'College 3'!J31+'College 4'!J31+'College 5'!J31 -> 0 | K31: =+'PI Budget'!O33+'College 2'!K31+'College 3'!K31+'College 4'!K31+'College 5'!K31 -> 0 | L31: =SUM(G31:K31) -> 0 | O31: OPS | P31: =+Q31/AC31 -> 0 | Q31: =+R31+S31+T31 -> 0 | U31: 0 | V31: =+U31*1.03 -> 0 | W31: =+V31*1.03 -> 0 | X31: =+W31*1.03 -> 0 | Y31: =+X31*1.03 -> 0 | Z31: =SUM(U31:Y31) -> 0 | AB31: 0 | AC31: 12 | AD31: =+AB31/AC31 -> 0
A32: =+'PI Budget'!A34 -> Undergraduate Students | B32: =+'PI Budget'!B34+'College 2'!B32+'College 3'!B32+'College 4'!B32+'College 5'!B32 -> 0 | C32: =+'PI Budget'!C34+'College 2'!C32+'College 3'!C32+'College 4'!C32+'College 5'!C32 -> 0 | G32: =+'PI Budget'!G34+'College 2'!G32+'College 3'!G32+'College 4'!G32+'College 5'!G32 -> 0 | H32: =+'PI Budget'!I34+'College 2'!H32+'College 3'!H32+'College 4'!H32+'College 5'!H32 -> 0 | I32: =+'PI Budget'!K34+'College 2'!I32+'College 3'!I32+'College 4'!I32+'College 5'!I32 -> 0 | J32: =+'PI Budget'!M34+'College 2'!J32+'College 3'!J32+'College 4'!J32+'College 5'!J32 -> 0 | K32: =+'PI Budget'!O34+'College 2'!K32+'College 3'!K32+'College 4'!K32+'College 5'!K32 -> 0 | L32: =SUM(G32:K32) -> 0 | O32: Undergraduate Students | P32: =+Q32/AC32 -> 0 | Q32: =+R32+S32+T32 -> 0 | U32: 0 | V32: =+U32*1.03 -> 0 | W32: =+V32*1.03 -> 0 | X32: =+W32*1.03 -> 0 | Y32: =+X32*1.03 -> 0 | Z32: =SUM(U32:Y32) -> 0 | AB32: =10.05*1044 -> 10492.2 | AC32: 12 | AD32: =+AB32/AC32 -> 874.35
A33: =+'PI Budget'!A36 -> Grad Research Asst | B33: =+'PI Budget'!B36+'College 2'!B33+'College 3'!B33+'College 4'!B33+'College 5'!B33 -> 0 | C33: =+'PI Budget'!C36+'College 2'!C33+'College 3'!C33+'College 4'!C33+'College 5'!C33 -> 0 | G33: =+'PI Budget'!G36+'College 2'!G33+'College 3'!G33+'College 4'!G33+'College 5'!G33 -> 0 | H33: =+'PI Budget'!I36+'College 2'!H33+'College 3'!H33+'College 4'!H33+'College 5'!H33 -> 0 | I33: =+'PI Budget'!K36+'College 2'!I33+'College 3'!I33+'College 4'!I33+'College 5'!I33 -> 0 | J33: =+'PI Budget'!M36+'College 2'!J33+'College 3'!J33+'College 4'!J33+'College 5'!J33 -> 0 | K33: =+'PI Budget'!O36+'College 2'!K33+'College 3'!K33+'College 4'!K33+'College 5'!K33 -> 0 | L33: =SUM(G33:K33) -> 0 | O33: Graduate Students | P33: =+Q33/AC33 -> 0 | Q33: =+R33+S33+T33 -> 0 | U33: 0 | V33: =+U33*1.03 -> 0 | W33: =+V33*1.03 -> 0 | X33: =+W33*1.03 -> 0 | Y33: =+X33*1.03 -> 0 | Z33: =SUM(U33:Y33) -> 0 | AB33: 18500 | AC33: 12 | AD33: =+AB33/AC33 -> 1541.6667
A34: Subtotal Salaries | G34: =SUM(G15:G33) -> 0 | H34: =SUM(H15:H33) -> 0 | I34: =SUM(I15:I33) -> 0 | J34: =SUM(J15:J33) -> 0 | K34: =SUM(K15:K33) -> 0 | L34: =SUM(G34:K34) -> 0 | O34: Subtotal Salaries | U34: =SUM(U15:U33) -> 0 | V34: =SUM(V15:V33) -> 0 | W34: =SUM(W15:W33) -> 0 | X34: =SUM(X15:X33) -> 0 | Y34: =SUM(Y15:Y33) -> 0 | Z34: =SUM(U34:Y34) -> 0
A36: Fringe Benefits | O36: Fringe Benefits
A37: Faculty | C37: 0.31 | G37: =+'PI Budget'!G40+'College 2'!G37+'College 3'!G37+'College 4'!G37+'College 5'!G37 -> 0 | H37: =+'PI Budget'!I40+'College 2'!H37+'College 3'!H37+'College 4'!H37+'College 5'!H37 -> 0 | I37: =+'PI Budget'!K40+'College 2'!I37+'College 3'!I37+'College 4'!I37+'College 5'!I37 -> 0 | J37: =+'PI Budget'!M40+'College 2'!J37+'College 3'!J37+'College 4'!J37+'College 5'!J37 -> 0 | K37: =+'PI Budget'!O40+'College 2'!K37+'College 3'!K37+'College 4'!K37+'College 5'!K37 -> 0 | L37: =SUM(G37:K37) -> 0 | O37: Faculty | Q37: 0.28 | U37: =SUM(U15:U20)*$C$37 -> 0 | V37: =SUM(V15:V20)*$C$37 -> 0 | W37: =SUM(W15:W20)*$C$37 -> 0 | X37: =SUM(X15:X20)*$C$37 -> 0 | Y37: =SUM(Y15:Y20)*$C$37 -> 0 | Z37: =SUM(U37:Y37) -> 0
A38: A&P | C38: 0.39 | G38: =+'PI Budget'!G41+'College 2'!G38+'College 3'!G38+'College 4'!G38+'College 5'!G38 -> 0 | H38: =+'PI Budget'!I41+'College 2'!H38+'College 3'!H38+'College 4'!H38+'College 5'!H38 -> 0 | I38: =+'PI Budget'!K41+'College 2'!I38+'College 3'!I38+'College 4'!I38+'College 5'!I38 -> 0 | J38: =+'PI Budget'!M41+'College 2'!J38+'College 3'!J38+'College 4'!J38+'College 5'!J38 -> 0 | K38: =+'PI Budget'!O41+'College 2'!K38+'College 3'!K38+'College 4'!K38+'College 5'!K38 -> 0 | L38: =SUM(G38:K38) -> 0 | O38: A&P | Q38: 0.37 | U38: =(U23)*$C$38 -> 0 | V38: =(V23)*$C$38 -> 0 | W38: =(W23)*$C$38 -> 0 | X38: =(X23)*$C$38 -> 0 | Y38: =(Y23)*$C$38 -> 0 | Z38: =SUM(U38:Y38) -> 0
A39: USPS | C39: 0.52 | G39: =+'PI Budget'!G42+'College 2'!G39+'College 3'!G39+'College 4'!G39+'College 5'!G39 -> 0 | H39: =+'PI Budget'!I42+'College 2'!H39+'College 3'!H39+'College 4'!H39+'College 5'!H39 -> 0 | I39: =+'PI Budget'!K42+'College 2'!I39+'College 3'!I39+'College 4'!I39+'College 5'!I39 -> 0 | J39: =+'PI Budget'!M42+'College 2'!J39+'College 3'!J39+'College 4'!J39+'College 5'!J39 -> 0 | K39: =+'PI Budget'!O42+'College 2'!K39+'College 3'!K39+'College 4'!K39+'College 5'!K39 -> 0 | L39: =SUM(G39:K39) -> 0 | O39: USPS | Q39: 0.5 | U39: =(U24)*$C$39 -> 0 | V39: =(V24)*$C$39 -> 0 | W39: =(W24)*$C$39 -> 0 | X39: =(X24)*$C$39 -> 0 | Y39: =(Y24)*$C$39 -> 0 | Z39: =SUM(U39:Y39) -> 0
A40: Post Doc | C40: 0.23 | G40: =+'PI Budget'!G43+'College 2'!G40+'College 3'!G40+'College 4'!G40+'College 5'!G40 -> 0 | H40: =+'PI Budget'!I43+'College 2'!H40+'College 3'!H40+'College 4'!H40+'College 5'!H40 -> 0 | I40: =+'PI Budget'!K43+'College 2'!I40+'College 3'!I40+'College 4'!I40+'College 5'!I40 -> 0 | J40: =+'PI Budget'!M43+'College 2'!J40+'College 3'!J40+'College 4'!J40+'College 5'!J40 -> 0 | K40: =+'PI Budget'!O43+'College 2'!K40+'College 3'!K40+'College 4'!K40+'College 5'!K40 -> 0 | L40: =SUM(G40:K40) -> 0 | O40: Post Doc | Q40: 0.22 | U40: =+U25*$C$40 -> 0 | V40: =+V25*$C$40 -> 0 | W40: =+W25*$C$40 -> 0 | X40: =+X25*$C$40 -> 0 | Y40: =+Y25*$C$40 -> 0 | Z40: =SUM(U40:Y40) -> 0
A41: OPS | C41: 0.14 | G41: =+'PI Budget'!G44+'College 2'!G41+'College 3'!G41+'College 4'!G41+'College 5'!G41 -> 0 | H41: =+'PI Budget'!I44+'College 2'!H41+'College 3'!H41+'College 4'!H41+'College 5'!H41 -> 0 | I41: =+'PI Budget'!K44+'College 2'!I41+'College 3'!I41+'College 4'!I41+'College 5'!I41 -> 0 | J41: =+'PI Budget'!M44+'College 2'!J41+'College 3'!J41+'College 4'!J41+'College 5'!J41 -> 0 | K41: =+'PI Budget'!O44+'College 2'!K41+'College 3'!K41+'College 4'!K41+'College 5'!K41 -> 0 | L41: =SUM(G41:K41) -> 0 | O41: OPS | Q41: 0.12 | U41: =+U31*$C$41 -> 0 | V41: =+V31*$C$41 -> 0 | W41: =+W31*$C$41 -> 0 | X41: =+X31*$C$41 -> 0 | Y41: =+Y31*$C$41 -> 0 | Z41: =SUM(U41:Y41) -> 0
A42: Undergrad/Grad Students | C42: 0.02 | G42: =+'PI Budget'!G45+'College 2'!G42+'College 3'!G42+'College 4'!G42+'College 5'!G42 -> 0 | H42: =+'PI Budget'!I45+'College 2'!H42+'College 3'!H42+'College 4'!H42+'College 5'!H42 -> 0 | I42: =+'PI Budget'!K45+'College 2'!I42+'College 3'!I42+'College 4'!I42+'College 5'!I42 -> 0 | J42: =+'PI Budget'!M45+'College 2'!J42+'College 3'!J42+'College 4'!J42+'College 5'!J42 -> 0 | K42: =+'PI Budget'!O45+'College 2'!K42+'College 3'!K42+'College 4'!K42+'College 5'!K42 -> 0 | L42: =SUM(G42:K42) -> 0 | O42: Undergrad/Grad Students | Q42: 0.02 | U42: =SUM(U32:U33)*$C$42 -> 0 | V42: =SUM(V32:V33)*$C$42 -> 0 | W42: =SUM(W32:W33)*$C$42 -> 0 | X42: =SUM(X32:X33)*$C$42 -> 0 | Y42: =SUM(Y32:Y33)*$C$42 -> 0 | Z42: =SUM(U42:Y42) -> 0
A43: Subtotal Fringe Benefits | G43: =SUM(G37:G42) -> 0 | H43: =SUM(H37:H42) -> 0 | I43: =SUM(I37:I42) -> 0 | J43: =SUM(J37:J42) -> 0 | K43: =SUM(K37:K42) -> 0 | L43: =SUM(G43:K43) -> 0 | O43: Subtotal Fringe Benefits | U43: =SUM(U37:U42) -> 0 | V43: =SUM(V37:V42) -> 0 | W43: =SUM(W37:W42) -> 0 | X43: =SUM(X37:X42) -> 0 | Y43: =SUM(Y37:Y42) -> 0 | Z43: =SUM(U43:Y43) -> 0
A45: Travel | O45: Travel | AB45: # Travelers | AC45: Days | AD45: # Trips
A46: =+'PI Budget'!A51 -> Conference Travel | G46: =+'PI Budget'!G51+'College 2'!G46+'College 3'!G46+'College 4'!G46+'College 5'!G46 -> 0 | H46: =+'PI Budget'!I51+'College 2'!H46+'College 3'!H46+'College 4'!H46+'College 5'!H46 -> 0 | I46: =+'PI Budget'!K51+'College 2'!I46+'College 3'!I46+'College 4'!I46+'College 5'!I46 -> 0 | J46: =+'PI Budget'!M51+'College 2'!J46+'College 3'!J46+'College 4'!J46+'College 5'!J46 -> 0 | K46: =+'PI Budget'!O51+'College 2'!K46+'College 3'!K46+'College 4'!K46+'College 5'!K46 -> 0 | L46: =SUM(G46:K46) -> 0 | O46: Conference Travel | U46: =+PersonnelTravelTuitionWorksheet!Z73+PersonnelTravelTuitionWorksheet!Z60+PersonnelTravelTuitionWorksheet!Z47 -> 0 | V46: =+U46*1.05 -> 0 | W46: =+V46*1.05 -> 0 | X46: =+W46*1.05 -> 0 | Y46: =+X46*1.05 -> 0 | Z46: =SUM(U46:Y46) -> 0
...

Sheet PI Budget
A2: (Unhide Columns G-Q for associated fringe benefits for each year)
A4: FUNDING PROPOSAL ID: | F4: GRANT ID NUMBER:
A5: PI NAME: | F5: TITLE:
A6: CO-PI #1 NAME: | F6: SPONSOR:
A7: CO-PI #2 NAME: | F7: POP:
A8: CO-PI #3 NAME: | F8: MAX BUDGET:
A9: CO-PI #4 NAME: | F9: YEARS:
A10: CO-PI #5 NAME: | F10: LIMITATIONS:
A12: PI BUDGET
S14: 12-Mo. Salary | T14: 12-Mo. Effort
A15: Personnel | B15: Effort % | C15: Months | D15: Fall | E15: Spr | F15: Sum | G15: Year 1 | H15: Fringe Benefit | I15: Year 2 | J15: Fringe Benefit | K15: Year 3 | L15: Fringe Benefit | M15: Year 4 | N15: Fringe Benefit | O15: Year 5 | P15: Fringe Benefit | Q15: Total | V15: Salary | W15: Contract | X15: Monthly
A16: =+B5 -> 0 | B16: =+C16/W16 -> 0 | C16: =D16+E16+F16 -> 0 | F16: 0 | G16: =(ROUND(C16*X16,0)) -> 0 | H16: =+ROUND(G16*$C$40,0) -> 0 | I16: =+ROUND(G16*1.03,0) -> 0 | J16: =+ROUND(H16*1.03,0) -> 0 | K16: =+ROUND(I16*1.03,0) -> 0 | L16: =+ROUND(J16*1.03,0) -> 0 | M16: =+ROUND(K16*1.03,0) -> 0 | N16: =+ROUND(L16*1.03,0) -> 0 | O16: =+ROUND(M16*1.03,0) -> 0 | P16: =+ROUND(O16*$C$40,0) -> 0 | Q16: =+G16+I16+K16+M16+O16 -> 0 | S16: =+X16*12 -> 0 | T16: =+C16/12 -> 0 | V16: 0 | W16: 9 | X16: =+V16/W16 -> 0
A17: =+B6 -> 0 | B17: =+C17/W17 -> 0 | C17: =+F17+E17+D17 -> 0 | G17: =(ROUND(C17*X17,0)) -> 0 | H17: =+ROUND(G17*$C$40,0) -> 0 | I17: =+ROUND(G17*1.03,0) -> 0 | J17: =+ROUND(I17*$C$40,0) -> 0 | K17: =+ROUND(I17*1.03,0) -> 0 | L17: =+ROUND(K17*$C$40,0) -> 0 | M17: =+ROUND(K17*1.03,0) -> 0 | N17: =+ROUND(M17*$C$40,0) -> 0 | O17: =+ROUND(M17*1.03,0) -> 0 | P17: =+ROUND(O17*$C$40,0) -> 0 | Q17: =+G17+I17+K17+M17+O17 -> 0 | S17: =+X17*12 -> 0 | T17: =+C17/12 -> 0 | V17: 0 | W17: 9 | X17: =+ROUND(V17/W17,0) -> 0
A18: =+B7 -> 0 | B18: =+C18/W18 -> 0 | C18: =+F18+E18+D18 -> 0 | G18: =(ROUND(C18*X18,0)) -> 0 | H18: =+ROUND(G18*$C$40,0) -> 0 | I18: =+ROUND(G18*1.03,0) -> 0 | J18: =+ROUND(I18*$C$40,0) -> 0 | K18: =+ROUND(I18*1.03,0) -> 0 | L18: =+ROUND(K18*$C$40,0) -> 0 | M18: =+ROUND(K18*1.03,0) -> 0 | N18: =+ROUND(M18*$C$40,0) -> 0 | O18: =+ROUND(M18*1.03,0) -> 0 | P18: =+ROUND(O18*$C$40,0) -> 0 | Q18: =+G18+I18+K18+M18+O18 -> 0 | S18: =+X18*12 -> 0 | T18: =+C18/12 -> 0 | V18: 0 | W18: 9 | X18: =+ROUND(V18/W18,0) -> 0
A19: =+B8 -> 0 | B19: =+C19/W19 -> 0 | C19: =+F19+E19+D19 -> 0 | G19: =(ROUND(C19*X19,0)) -> 0 | H19: =+ROUND(G19*$C$40,0) -> 0 | I19: =+ROUND(G19*1.03,0) -> 0 | J19: =+ROUND(I19*$C$40,0) -> 0 | K19: =+ROUND(I19*1.03,0) -> 0 | L19: =+ROUND(K19*$C$40,0) -> 0 | M19: =+ROUND(K19*1.03,0) -> 0 | N19: =+ROUND(M19*$C$40,0) -> 0 | O19: =+ROUND(M19*1.03,0) -> 0 | P19: =+ROUND(O19*$C$40,0) -> 0 | Q19: =+G19+I19+K19+M19+O19 -> 0 | S19: =+X19*12 -> 0 | T19: =+C19/12 -> 0 | W19: 9 | X19: =+V19/W19 -> 0
A20: =+B9 -> 0 | B20: =+C20/W20 -> 0 | C20: =+F20+E20+D20 -> 0 | G20: =(ROUND(C20*X20,0)) -> 0 | H20: =+ROUND(G20*$C$40,0) -> 0 | I20: =+ROUND(G20*1.03,0) -> 0 | J20: =+ROUND(I20*$C$40,0) -> 0 | K20: =+ROUND(I20*1.03,0) -> 0 | L20: =+ROUND(K20*$C$40,0) -> 0 | M20: =+ROUND(K20*1.03,0) -> 0 | N20: =+ROUND(M20*$C$40,0) -> 0 | O20: =+ROUND(M20*1.03,0) -> 0 | P20: =+ROUND(O20*$C$40,0) -> 0 | Q20: =+G20+I20+K20+M20+O20 -> 0 | S20: =+X20*12 -> 0 | T20: =+C20/12 -> 0 | W20: 9 | X20: =+V20/W20 -> 0
A21: =+B10 -> 0 | B21: =+C21/W21 -> 0 | C21: =+F21+E21+D21 -> 0 | G21: =(ROUND(C21*X21,0)) -> 0 | H21: =+ROUND(G21*$C$40,0) -> 0 | I21: =+ROUND(G21*1.03,0) -> 0 | J21: =+ROUND(I21*$C$40,0) -> 0 | K21: =+ROUND(I21*1.03,0) -> 0 | L21: =+ROUND(K21*$C$40,0) -> 0 | M21: =+ROUND(K21*1.03,0) -> 0 | N21: =+ROUND(M21*$C$40,0) -> 0 | O21: =+ROUND(M21*1.03,0) -> 0 | P21: =+ROUND(O21*$C$40,0) -> 0 | Q21: =+G21+I21+K21+M21+O21 -> 0 | S21: =+X21*12 -> 0 | T21: =+C21/12 -> 0 | W21: 9 | X21: =+V21/W21 -> 0
B22: =+C22/W22 -> 0 | C22: =+F22+E22+D22 -> 0 | G22: =(ROUND(C22*X22,0)) -> 0 | H22: =+ROUND(G22*$C$40,0) -> 0 | I22: =+ROUND(G22*1.03,0) -> 0 | J22: =+ROUND(I22*$C$40,0) -> 0 | K22: =+ROUND(I22*1.03,0) -> 0 | L22: =+ROUND(K22*$C$40,0) -> 0 | M22: =+ROUND(K22*1.03,0) -> 0 | N22: =+ROUND(M22*$C$40,0) -> 0 | O22: =+ROUND(M22*1.03,0) -> 0 | P22: =+ROUND(O22*$C$40,0) -> 0 | Q22: =+G22+I22+K22+M22+O22 -> 0 | S22: =+X22*12 -> 0 | T22: =+C22/12 -> 0 | W22: 9 | X22: =+V22/W22 -> 0
A23: A&P | B23: =+C23/W23 -> 0 | C23: =+F23+E23+D23 -> 0 | G23: =(ROUND(V23/12*C23,0)) -> 0 | H23: =+ROUND(G23*$C$41,0) -> 0 | I23: =+ROUND(G23*1.03,0) -> 0 | J23: =+ROUND(I23*$C$41,0) -> 0 | K23: =+ROUND(I23*1.03,0) -> 0 | L23: =+ROUND(K23*$C$41,0) -> 0 | M23: =+ROUND(K23*1.03,0) -> 0 | N23: =+ROUND(M23*$C$41,0) -> 0 | O23: =+ROUND(M23*1.03,0) -> 0 | P23: =+ROUND(O23*$C$41,0) -> 0 | Q23: =+O23+M23+K23+I23+G23 -> 0 | S23: 0 | T23: 0 | W23: 12 | X23: =+V23/W23 -> 0
A24: A&P | B24: =+C24/W24 -> 0 | C24: =D24+E24+F24 -> 0 | G24: =(ROUND(V24/12*C24,0)) -> 0 | H24: =+ROUND(G24*$C$41,0) -> 0 | I24: =+ROUND(G24*1.03,0) -> 0 | J24: =+ROUND(I24*$C$41,0) -> 0 | K24: =+ROUND(I24*1.03,0) -> 0 | L24: =+ROUND(K24*$C$41,0) -> 0 | M24: =+ROUND(K24*1.03,0) -> 0 | N24: =+ROUND(M24*$C$41,0) -> 0 | O24: =+ROUND(M24*1.03,0) -> 0 | P24: =+ROUND(O24*$C$41,0) -> 0 | Q24: =+O24+M24+K24+I24+G24 -> 0 | S24: 0 | T24: 0 | W24: 12 | X24: =+V24/W24 -> 0
A25: A&P | B25: =+C25/W25 -> 0 | C25: =+D25+E25+F25 -> 0 | G25: =(ROUND(V25/12*C25,0)) -> 0 | H25: =+ROUND(G25*$C$41,0) -> 0 | I25: =+ROUND(G25*1.03,0) -> 0 | J25: =+ROUND(I25*$C$41,0) -> 0 | K25: =+ROUND(I25*1.03,0) -> 0 | L25: =+ROUND(K25*$C$41,0) -> 0 | M25: =+ROUND(K25*1.03,0) -> 0 | N25: =+ROUND(M25*$C$41,0) -> 0 | O25: =+ROUND(M25*1.03,0) -> 0 | P25: =+ROUND(O25*$C$41,0) -> 0 | Q25: =+O25+M25+K25+I25+G25 -> 0 | S25: 0 | T25: 0 | W25: 12 | X25: =+ROUND(V25/W25,0) -> 0
A26: USPS | B26: =+C26/W26 -> 0 | C26: =+D26+E26+F26 -> 0 | G26: =(ROUND(C26*X26,0)) -> 0 | H26: =+ROUND(G26*$C$42,0) -> 0 | I26: =+ROUND(G26*1.03,0) -> 0 | J26: =+ROUND(I26*$C$42,0) -> 0 | K26: =+ROUND(I26*1.03,0) -> 0 | L26: =+ROUND(K26*$C$42,0) -> 0 | M26: =+ROUND(K26*1.03,0) -> 0 | N26: =+ROUND(M26*$C$42,0) -> 0 | O26: =+ROUND(M26*1.03,0) -> 0 | P26: =+ROUND(O26*$C$42,0) -> 0 | Q26: =+O26+M26+K26+I26+G26 -> 0 | S26: 0 | T26: 0 | W26: 12 | X26: =+ROUND(V26/W26,0) -> 0
A27: Post Doc | B27: =+C27/W27 -> 0 | C27: =+D27+E27+F27 -> 0 | G27: =(ROUND(C27*X27,0)) -> 0 | H27: =+ROUND(G27*$C$43,0) -> 0 | I27: =+ROUND(G27*1.03,0) -> 0 | J27: =+ROUND(I27*$C$43,0) -> 0 | K27: =+ROUND(I27*1.03,0) -> 0 | L27: =+ROUND(K27*$C$43,0) -> 0 | M27: =+ROUND(K27*1.03,0) -> 0 | N27: =+ROUND(M27*$C$43,0) -> 0 | O27: =+ROUND(M27*1.03,0) -> 0 | P27: =+ROUND(O27*$C$43,0) -> 0 | Q27: =+O27+M27+K27+I27+G27 -> 0 | S27: 0 | T27: 0 | W27: 12 | X27: =V27/12 -> 0
A28: OPS | B28: =+C28/W28 -> 0 | C28: =D28+E28+F28 -> 0 | G28: =+C28/12*V28 -> 0 | H28: =+ROUND(G28*$C$44,0) -> 0 | I28: =+ROUND(G28*1.03,0) -> 0 | J28: =+ROUND(I28*$C$44,0) -> 0 | K28: =+ROUND(I28*1.03,0) -> 0 | L28: =+ROUND(K28*$C$44,0) -> 0 | M28: =+ROUND(K28*1.03,0) -> 0 | N28: =+ROUND(M28*$C$44,0) -> 0 | O28: =+ROUND(M28*1.03,0) -> 0 | P28: =+ROUND(O28*$C$44,0) -> 0 | Q28: =+O28+M28+K28+I28+G28 -> 0 | S28: 0 | T28: 0 | W28: 12 | X28: =+V28/W28 -> 0
A29: OPS | B29: =+C29/W29 -> 0 | C29: =D29+E29+F29 -> 0 | G29: =+C29/12*V29 -> 0 | H29: =+ROUND(G29*$C$44,0) -> 0 | I29: =+ROUND(G29*1.03,0) -> 0 | J29: =+ROUND(I29*$C$44,0) -> 0 | K29: =+ROUND(I29*1.03,0) -> 0 | L29: =+ROUND(K29*$C$44,0) -> 0 | M29: =+ROUND(K29*1.03,0) -> 0 | N29: =+ROUND(M29*$C$44,0) -> 0 | O29: =+ROUND(M29*1.03,0) -> 0 | P29: =+ROUND(O29*$C$44,0) -> 0 | Q29: =+O29+M29+K29+I29+G29 -> 0 | S29: 0 | T29: 0 | W29: 12 | X29: =+V29/W29 -> 0
A30: OPS | B30: =+C30/W30 -> 0 | C30: =D30+E30+F30 -> 0 | G30: =+C30/12*V30 -> 0 | H30: =+ROUND(G30*$C$44,0) -> 0 | I30: =+ROUND(G30*1.03,0) -> 0 | J30: =+ROUND(I30*$C$44,0) -> 0 | K30: =+ROUND(I30*1.03,0) -> 0 | L30: =+ROUND(K30*$C$44,0) -> 0 | M30: =+ROUND(K30*1.03,0) -> 0 | N30: =+ROUND(M30*$C$44,0) -> 0 | O30: =+ROUND(M30*1.03,0) -> 0 | P30: =+ROUND(O30*$C$44,0) -> 0 | Q30: =+O30+M30+K30+I30+G30 -> 0 | S30: 0 | T30: 0 | W30: 12 | X30: =+V30/W30 -> 0
A31: OPS | B31: =+C31/W31 -> 0 | C31: =D31+E31+F31 -> 0 | G31: =+C31/12*V31 -> 0 | H31: =+ROUND(G31*$C$44,0) -> 0 | I31: =+ROUND(G31*1.03,0) -> 0 | J31: =+ROUND(I31*$C$44,0) -> 0 | K31: =+ROUND(I31*1.03,0) -> 0 | L31: =+ROUND(K31*$C$44,0) -> 0 | M31: =+ROUND(K31*1.03,0) -> 0 | N31: =+ROUND(M31*$C$44,0) -> 0 | O31: =+ROUND(M31*1.03,0) -> 0 | P31: =+ROUND(O31*$C$44,0) -> 0 | Q31: =+O31+M31+K31+I31+G31 -> 0 | S31: 0 | T31: 0 | W31: 12 | X31: =+V31/W31 -> 0
A32: OPS | B32: =+C32/W32 -> 0 | C32: =D32+E32+F32 -> 0 | G32: =+C32/12*V32 -> 0 | H32: =+ROUND(G32*$C$44,0) -> 0 | I32: =+ROUND(G32*1.03,0) -> 0 | J32: =+ROUND(I32*$C$44,0) -> 0 | K32: =+ROUND(I32*1.03,0) -> 0 | L32: =+ROUND(K32*$C$44,0) -> 0 | M32: =+ROUND(K32*1.03,0) -> 0 | N32: =+ROUND(M32*$C$44,0) -> 0 | O32: =+ROUND(M32*1.03,0) -> 0 | P32: =+ROUND(O32*$C$44,0) -> 0 | Q32: =+O32+M32+K32+I32+G32 -> 0 | S32: 0 | T32: 0 | W32: 12 | X32: =+V32/W32 -> 0
A33: OPS | B33: =+C33/W33 -> 0 | C33: =D33+E33+F33 -> 0 | G33: =+C33/12*V33 -> 0 | H33: =+ROUND(G33*$C$44,0) -> 0 | I33: =+ROUND(G33*1.03,0) -> 0 | J33: =+ROUND(I33*$C$44,0) -> 0 | K33: =+ROUND(I33*1.03,0) -> 0 | L33: =+ROUND(K33*$C$44,0) -> 0 | M33: =+ROUND(K33*1.03,0) -> 0 | N33: =+ROUND(M33*$C$44,0) -> 0 | O33: =+ROUND(M33*1.03,0) -> 0 | P33: =+ROUND(O33*$C$44,0) -> 0 | Q33: =+O33+M33+K33+I33+G33 -> 0 | S33: 0 | T33: 0 | W33: 12 | X33: =+V33/W33 -> 0
A34: Undergraduate Students | B34: =+C34/W34 -> 0 | C34: =+D34+E34+F34 -> 0 | G34: =(ROUND(C34*X34,0)) -> 0 | H34: =+ROUND(G34*$C$45,0) -> 0 | I34: =+ROUND(G34*1.03,0) -> 0 | J34: =+ROUND(I34*$C$45,0) -> 0 | K34: =+ROUND(I34*1.03,0) -> 0 | L34: =+ROUND(K34*$C$45,0) -> 0 | M34: =+ROUND(K34*1.03,0) -> 0 | N34: =+ROUND(M34*$C$45,0) -> 0 | O34: =+ROUND(M34*1.03,0) -> 0 | P34: =+ROUND(O34*$C$45,0) -> 0 | Q34: =+O34+M34+K34+I34+G34 -> 0 | S34: 0 | T34: 0 | V34: 0 | W34: 12 | X34: =+ROUND(V34/W34,0) -> 0
A35: Grad Std OPS NO TUITION | B35: =+C35/W35 -> 0 | C35: =+D35+E35+F35 -> 0 | G35: =(ROUND(C35*X35,0)) -> 0 | H35: =+ROUND(G35*$C$45,0) -> 0 | I35: =+ROUND(G35*1.03,0) -> 0 | J35: =+ROUND(I35*$C$45,0) -> 0 | K35: =+ROUND(I35*1.03,0) -> 0 | L35: =+ROUND(K35*$C$45,0) -> 0 | M35: =+ROUND(K35*1.03,0) -> 0 | N35: =+ROUND(M35*$C$45,0) -> 0 | O35: =+ROUND(M35*1.03,0) -> 0 | P35: =+ROUND(O35*$C$45,0) -> 0 | Q35: =+O35+M35+K35+I35+G35 -> 0 | S35: 0 | T35: 0 | W35: 12 | X35: =+ROUND(V35/W35,0) -> 0
A36: Grad Research Asst | B36: =+C36/W36 -> 0 | C36: =+D36+E36+F36 -> 0 | G36: =(ROUND(C36*X36,0)) -> 0 | H36: =+ROUND(G36*$C$45,0) -> 0 | I36: =+ROUND(G36*1.03,0) -> 0 | J36: =+ROUND(I36*$C$45,0) -> 0 | K36: =+ROUND(I36*1.03,0) -> 0 | L36: =+ROUND(K36*$C$45,0) -> 0 | M36: =+ROUND(K36*1.03,0) -> 0 | N36: =+ROUND(M36*$C$45,0) -> 0 | O36: =+ROUND(M36*1.03,0) -> 0 | P36: =+ROUND(O36*$C$45,0) -> 0 | Q36: =+O36+M36+K36+I36+G36 -> 0 | S36: 0 | T36: 0 | W36: 12 | X36: =+ROUND(V36/W36,0) -> 0
A37: Subtotal Salaries | G37: =SUM(G16:G36) -> 0 | H37: =SUM(H16:H36) -> 0 | I37: =SUM(I16:I36) -> 0 | J37: =SUM(J16:J36) -> 0 | K37: =SUM(K16:K36) -> 0 | L37: =SUM(L16:L36) -> 0 | M37: =SUM(M16:M36) -> 0 | N37: =SUM(N16:N36) -> 0 | ... P37: =SUM(P16:P36) -> 0 | Q37: =+O37+M37+K37+I37+G37 -> 0
A39: Fringe Benefits
A40: Faculty | C40: 0.34 | G40: =ROUND(SUM(G16:G22)*$C$40,0) -> 0 | I40: =ROUND(SUM(I16:I22)*$C$40,0) -> 0 | K40: =ROUND(SUM(K16:K22)*$C$40,0) -> 0 | M40: =ROUND(SUM(M16:M22)*$C$40,0) -> 0 | O40: =ROUND(SUM(O16:O22)*$C$40,0) -> 0 | Q40: =SUM(G40:O40) -> 0
A41: Administrative & Professional (A&P) | C41: 0.47 | G41: =ROUND((G25+G24+G23)*$C$41,0) -> 0 | I41: =ROUND((I25+I24+I23)*$C$41,0) -> 0 | K41: =ROUND((K25+K24+K23)*$C$41,0) -> 0 | M41: =ROUND((M25+M24+M23)*$C$41,0) -> 0 | O41: =ROUND((O25+O24+O23)*$C$41,0) -> 0 | Q41: =SUM(G41:O41) -> 0
A42: University Support Personnel System (USPS) | C42: 0.47 | G42: =ROUND((G26)*$C$42,0) -> 0 | I42: =ROUND((I26)*$C$42,0) -> 0 | K42: =ROUND((K26)*$C$42,0) -> 0 | M42: =ROUND((M26)*$C$42,0) -> 0 | O42: =ROUND((O26)*$C$42,0) -> 0 | Q42: =SUM(G42:O42) -> 0
A43: Post-Doctoral Associates | C43: 0.23 | G43: =+ROUND(G27*$C$43,0) -> 0 | I43: =+ROUND(I27*$C$43,0) -> 0 | K43: =+ROUND(K27*$C$43,0) -> 0 | M43: =+ROUND(M27*$C$43,0) -> 0 | O43: =+ROUND(O27*$C$43,0) -> 0 | Q43: =SUM(G43:O43) -> 0
A44: OPS | C44: 0.11 | G44: =+ROUND(SUM(G28:G33)*$C$44,0) -> 0 | I44: =+ROUND(SUM(I28:I33)*$C$44,0) -> 0 | K44: =+ROUND(SUM(K28:K33)*$C$44,0) -> 0 | M44: =+ROUND(SUM(M28:M33)*$C$44,0) -> 0 | O44: =+ROUND(SUM(O28:O33)*$C$44,0) -> 0 | Q44: =SUM(G44:O44) -> 0
A45: Undergrad/Grad Students | C45: 0.02 | G45: =ROUND(SUM(G34:G36)*$C$45,0) -> 0 | I45: =ROUND(SUM(I34:I36)*$C$45,0) -> 0 | K45: =ROUND(SUM(K34:K36)*$C$45,0) -> 0 | M45: =ROUND(SUM(M34:M36)*$C$45,0) -> 0 | O45: =ROUND(SUM(O34:O36)*$C$45,0) -> 0 | Q45: =SUM(G45:O45) -> 0
...

Sheet Proposal Calculator
B1: Proposal Calculator
B3: Proposal Due Date
B5: Item | D5: Date
B6: Document Certification | D6: =+D3-5 -> -5
B7: 5 Day O.R. Due Date | D7: =+D3-7 -> -7
B8: CCIE Due Date | D8: =+D3-12 -> -12
B9: Personnel Docs Due Date | D9: =+D3-14 -> -14
B10: Sub Docs Due Date | D10: =+D3-14 -> -14
B12: Items to request when notified by PI:
C13: Copy of Solicitation
C14: Contact information of Subrecipients
C15: Special considerations
C16: Co-PIs in other colleges (If NSF, do they have NSF IDs)
C17: NSF-Fastlane proposal SRO/AOR access edit & submit
C18: Delegate access to SciENcv
B20: Forms/Items required of Subrecipients:
C21: Letter of Commitment
C22: Statement of work
C23: Budget
C24: Budget justification
C25: Any other items required by sponsor (eg. Biosketch)
B27: Cost Share Considerations
C28: Dept. approval
B30: Preparation of Proposal Documents
C31: Budget, Budget Justification
C32: Separate budget for other colleges (& Credit Split Form)
C33: Huron record created
C34: File created in Shared folder
C35: CVs/Current and Pending documents
C36: PI Endorsement sent
B41: NIH Documents
C42: Bibliography (references)
C43: Biosketch(s)
C44: Data and Safety (if yes to all CTC questions/Optional if not)
C45: Equipment
C46: Facilities
C47: Inclusion Enrollment Report (if only exemption 4)
C48: Inclusion of Women, Minorities and Children
C49: Letters of Support
C50: Project Narrative
...

Sheet Guidance-Vendor, Dual Comp

Sheet College 2
A2: (Unhide Columns R-AH for Cost Share Budget) | S2: Cost Share Budget
G3: College | H3: Credit Split | I3: TITLE: | J3: =+'PI Budget'!F4:R5 -> #VALUE! | Y3: Cred Split | Z3: IDC Spilt | AA3: TITLE:
A4: PI NAME: | B4: =+'PI Budget'!B5:E5 -> 0 | G4: =+'PI Budget'!#REF! -> #REF! | H4: =+'PI Budget'!#REF! -> #REF! | S4: PI NAME:
A5: CO-PI #1 NAME: | B5: =+'PI Budget'!B6:E6 -> 0 | G5: =+'PI Budget'!#REF! -> #REF! | H5: =+'PI Budget'!#REF! -> #REF! | I5: SPONSOR: | J5: =+'PI Budget'!F6:R6 -> 0 | S5: CO-PI #1 NAME: | AA5: SPONSOR:
A6: CO-PI #2 NAME: | B6: =+'PI Budget'!B7:E7 -> 0 | G6: =+'PI Budget'!#REF! -> #REF! | H6: =+'PI Budget'!#REF! -> #REF! | I6: POP: | J6: =+'PI Budget'!#REF! -> #REF! | K6: to | L6: =+'PI Budget'!R7 -> 0
A7: CO-PI #3 NAME: | B7: =+'PI Budget'!B8:E8 -> 0 | G7: =+'PI Budget'!#REF! -> #REF! | H7: =+'PI Budget'!#REF! -> #REF!
A8: CO-PI #4 NAME: | B8: =+'PI Budget'!B9:E9 -> 0 | G8: =+'PI Budget'!#REF! -> #REF! | H8: =+'PI Budget'!#REF! -> #REF! | I8: MAX BUDGET: | J8: =+'PI Budget'!#REF! -> #REF! | K8: YEARS: | L8: =+'PI Budget'!R9 -> 0
A9: CO-PI #5 NAME: | B9: =+'PI Budget'!B10:E10 -> 0 | G9: =+'PI Budget'!#REF! -> #REF! | H9: =+'PI Budget'!#REF! -> #REF! | I9: LIMITATIONS: | J9: =+'PI Budget'!#REF! -> #REF! | S9: CO-PI #2 NAME: | AA9: POP:
A11: CO-PI BUDGET | C11: =+B5 -> 0 | H11: +G5 | S11: SPONSOR BUDGET
A14: Personnel | B14: Effort % | C14: Months | D14: Fall | E14: Spr | F14: Sum | G14: Year 1 | H14: Year 2 | I14: Year 3 | J14: Year 4 | K14: Year 5 | L14: Total | O14: Salary | P14: Contract | Q14: Monthly | S14: Personnel | T14: Effort % | U14: Months | V14: Fall | W14: Spr | X14: Sum | Y14: Year 1 | Z14: Year 2 | AA14: Year 3 | AB14: Year 4 | AC14: Year 5 | AD14: Total | AF14: Salary | AG14: Contract | AH14: Monthly
A15: =+B4 -> 0 | B15: =+C15/P15 -> 0 | C15: =+F15+E15+D15 -> 0 | G15: =(ROUND(C15*Q15,0)) -> 0 | H15: =+ROUND(G15*1.03,0) -> 0 | I15: =+ROUND(H15*1.03,0) -> 0 | J15: =+ROUND(I15*1.03,0) -> 0 | K15: =+ROUND(J15*1.03,0) -> 0 | L15: =SUM(G15:K15) -> 0 | O15: =+'PI Budget'!V16 -> 0 | P15: =+'PI Budget'!W16 -> 9 | Q15: =+ROUND(O15/P15,0) -> 0 | S15: =+T4 -> 0 | T15: =+U15/AG15 -> 0 | U15: =+X15+W15+V15 -> 0 | V15: 0 | Y15: =+U15*AH15 -> 0 | Z15: =+Y15*1.03 -> 0 | AA15: =+Z15*1.03 -> 0 | AB15: =+AA15*1.03 -> 0 | AC15: =+AB15*1.03 -> 0 | AD15: =SUM(Y15:AC15) -> 0 | AF15: 10000 | AG15: 9 | AH15: =+AF15/AG15 -> 1111.1111
A16: =+B5 -> 0 | B16: =+C16/P16 -> 0 | C16: =+F16+E16+D16 -> 0 | G16: =(ROUND(C16*Q16,0)) -> 0 | H16: =+ROUND(G16*1.03,0) -> 0 | I16: =+ROUND(H16*1.03,0) -> 0 | J16: =+ROUND(I16*1.03,0) -> 0 | K16: =+ROUND(J16*1.03,0) -> 0 | L16: =SUM(G16:K16) -> 0 | O16: =+'PI Budget'!V17 -> 0 | P16: =+'PI Budget'!W17 -> 9 | Q16: =+ROUND(O16/P16,0) -> 0 | S16: =+T5 -> 0 | T16: =+U16/AG16 -> 0 | U16: =+X16+W16+V16 -> 0 | Y16: =+U16*AH16 -> 0 | Z16: =+Y16*1.03 -> 0 | AA16: =+Z16*1.03 -> 0 | AB16: =+AA16*1.03 -> 0 | AC16: =+AB16*1.03 -> 0 | AD16: =SUM(Y16:AC16) -> 0 | AF16: 0 | AG16: 9 | AH16: =+AF16/AG16 -> 0
A17: =+B6 -> 0 | B17: =+C17/P17 -> 0 | C17: =+F17+E17+D17 -> 0 | G17: =(ROUND(C17*Q17,0)) -> 0 | H17: =+ROUND(G17*1.03,0) -> 0 | I17: =+ROUND(H17*1.03,0) -> 0 | J17: =+ROUND(I17*1.03,0) -> 0 | K17: =+ROUND(J17*1.03,0) -> 0 | L17: =SUM(G17:K17) -> 0 | O17: =+'PI Budget'!V18 -> 0 | P17: =+'PI Budget'!W18 -> 9 | Q17: =+ROUND(O17/P17,0) -> 0 | S17: =+T9 -> 0 | T17: =+U17/AG17 -> 0 | U17: =+X17+W17+V17 -> 0 | Y17: =+U17*AH17 -> 0 | Z17: =+Y17*1.03 -> 0 | AA17: =+Z17*1.03 -> 0 | AB17: =+AA17*1.03 -> 0 | AC17: =+AB17*1.03 -> 0 | AD17: =SUM(Y17:AC17) -> 0 | AF17: 0 | AG17: 9 | AH17: =+AF17/AG17 -> 0
A18: =+B7 -> 0 | B18: =+C18/P18 -> 0 | C18: =+F18+E18+D18 -> 0 | G18: =+C18*Q18 -> 0 | H18: =+G18*1.03 -> 0 | I18: =+H18*1.03 -> 0 | J18: =+I18*1.03 -> 0 | K18: =+J18*1.03 -> 0 | L18: =SUM(G18:K18) -> 0 | O18: =+'PI Budget'!V19 -> 0 | P18: =+'PI Budget'!W19 -> 9 | Q18: =+O18/P18 -> 0 | T18: =+U18/AG18 -> 0 | U18: =+X18+W18+V18 -> 0 | Y18: =+U18*AH18 -> 0 | Z18: =+Y18*1.03 -> 0 | AA18: =+Z18*1.03 -> 0 | AB18: =+AA18*1.03 -> 0 | AC18: =+AB18*1.03 -> 0 | AD18: =SUM(Y18:AC18) -> 0 | AF18: 0 | AG18: 9 | AH18: =+AF18/AG18 -> 0
A19: =+B8 -> 0 | B19: =+C19/P19 -> 0 | C19: =+F19+E19+D19 -> 0 | G19: =+C19*Q19 -> 0 | H19: =+G19*1.03 -> 0 | I19: =+H19*1.03 -> 0 | J19: =+I19*1.03 -> 0 | K19: =+J19*1.03 -> 0 | L19: =SUM(G19:K19) -> 0 | O19: =+'PI Budget'!V20 -> 0 | P19: =+'PI Budget'!W20 -> 9 | Q19: =+O19/P19 -> 0 | T19: =+U19/AG19 -> 0 | U19: =+X19+W19+V19 -> 0 | Y19: =+U19*AH19 -> 0 | Z19: =+Y19*1.03 -> 0 | AA19: =+Z19*1.03 -> 0 | AB19: =+AA19*1.03 -> 0 | AC19: =+AB19*1.03 -> 0 | AD19: =SUM(Y19:AC19) -> 0 | AF19: 0 | AG19: 9 | AH19: =+AF19/AG19 -> 0
A20: =+B9 -> 0 | B20: =+C20/P20 -> 0 | C20: =+F20+E20+D20 -> 0 | G20: =+C20*Q20 -> 0 | H20: =+G20*1.03 -> 0 | I20: =+H20*1.03 -> 0 | J20: =+I20*1.03 -> 0 | K20: =+J20*1.03 -> 0 | L20: =SUM(G20:K20) -> 0 | O20: =+'PI Budget'!V21 -> 0 | P20: =+'PI Budget'!W21 -> 9 | Q20: =+O20/P20 -> 0 | T20: =+U20/AG20 -> 0 | U20: =+X20+W20+V20 -> 0 | Y20: =+U20*AH20 -> 0 | Z20: =+Y20*1.03 -> 0 | AA20: =+Z20*1.03 -> 0 | AB20: =+AA20*1.03 -> 0 | AC20: =+AB20*1.03 -> 0 | AD20: =SUM(Y20:AC20) -> 0 | AF20: 0 | AG20: 9 | AH20: =+AF20/AG20 -> 0
A21: =+'PI Budget'!A23 -> A&P | B21: =+C21/P21 -> 0 | C21: 0 | G21: =+O21/12*C21 -> 0 | H21: =+G21*1.03 -> 0 | I21: =+H21*1.03 -> 0 | J21: =+I21*1.03 -> 0 | K21: =+J21*1.03 -> 0 | L21: =SUM(G21:K21) -> 0 | P21: 12 | Q21: =+O21/P21 -> 0
A22: =+'PI Budget'!A24 -> A&P | C22: 0 | G22: =+O22/12*C22 -> 0 | H22: =+G22*1.03 -> 0 | I22: =+H22*1.03 -> 0 | J22: =+I22*1.03 -> 0 | K22: =+J22*1.03 -> 0 | L22: =SUM(G22:K22) -> 0 | P22: 12 | Q22: =+O22/P22 -> 0
A23: =+'PI Budget'!A25 -> A&P | B23: =+C23/P23 -> 0 | C23: =+D23+E23+F23 -> 0 | G23: =(ROUND(C23*Q23,0)) -> 0 | H23: =+ROUND(G23*1.03,0) -> 0 | I23: =+ROUND(H23*1.03,0) -> 0 | J23: =+ROUND(I23*1.03,0) -> 0 | K23: =+ROUND(J23*1.03,0) -> 0 | L23: =SUM(G23:K23) -> 0 | P23: 12 | Q23: =+ROUND(O23/P23,0) -> 0 | S23: A&P | T23: =+U23/AG23 -> 0 | U23: =+V23+W23+X23 -> 0 | Y23: 0 | Z23: =+Y23*1.03 -> 0 | AA23: =+Z23*1.03 -> 0 | AB23: =+AA23*1.03 -> 0 | AC23: =+AB23*1.03 -> 0 | AD23: =SUM(Y23:AC23) -> 0 | AF23: 0 | AG23: 12 | AH23: =+AF23/AG23 -> 0
A24: =+'PI Budget'!A26 -> USPS | B24: =+C24/P24 -> 0 | C24: =+D24+E24+F24 -> 0 | G24: =(ROUND(C24*Q24,0)) -> 0 | H24: =+ROUND(G24*1.03,0) -> 0 | I24: =+ROUND(H24*1.03,0) -> 0 | J24: =+ROUND(I24*1.03,0) -> 0 | K24: =+ROUND(J24*1.03,0) -> 0 | L24: =SUM(G24:K24) -> 0 | P24: 12 | Q24: =+ROUND(O24/P24,0) -> 0 | S24: USPS | T24: =+U24/AG24 -> 0 | U24: =+V24+W24+X24 -> 0 | Y24: 0 | Z24: =+Y24*1.03 -> 0 | AA24: =+Z24*1.03 -> 0 | AB24: =+AA24*1.03 -> 0 | AC24: =+AB24*1.03 -> 0 | AD24: =SUM(Y24:AC24) -> 0 | AF24: 0 | AG24: 12 | AH24: =+AF24/AG24 -> 0
A25: =+'PI Budget'!A27 -> Post Doc | B25: =+C25/P25 -> 0 | C25: =+D25+E25+F25 -> 0 | G25: =(ROUND(C25*Q25,0)) -> 0 | H25: =+ROUND(G25*1.03,0) -> 0 | I25: =+ROUND(H25*1.03,0) -> 0 | J25: =+ROUND(I25*1.03,0) -> 0 | K25: =+ROUND(J25*1.03,0) -> 0 | L25: =SUM(G25:K25) -> 0 | P25: 12 | Q25: =+ROUND(O25/P25,0) -> 0 | S25: Post Doc | T25: =+U25/AG25 -> 0 | U25: =+V25+W25+X25 -> 0 | Y25: 0 | Z25: =+Y25*1.03 -> 0 | AA25: =+Z25*1.03 -> 0 | AB25: =+AA25*1.03 -> 0 | AC25: =+AB25*1.03 -> 0 | AD25: =SUM(Y25:AC25) -> 0 | AF25: 0 | AG25: 12 | AH25: =+AF25/AG25 -> 0
A26: =+'PI Budget'!A28 -> OPS | C26: 0 | G26: =+C26/12*O26 -> 0 | H26: =+ROUND(G26*1.03,0) -> 0 | I26: =+ROUND(H26*1.03,0) -> 0 | J26: =+ROUND(I26*1.03,0) -> 0 | K26: =+ROUND(J26*1.03,0) -> 0 | L26: =SUM(G26:K26) -> 0 | P26: 12
A27: =+'PI Budget'!A29 -> OPS | C27: 0 | G27: =+C27/12*O27 -> 0 | H27: =+ROUND(G27*1.03,0) -> 0 | I27: =+ROUND(H27*1.03,0) -> 0 | J27: =+ROUND(I27*1.03,0) -> 0 | K27: =+ROUND(J27*1.03,0) -> 0 | L27: =SUM(G27:K27) -> 0 | P27: 12
A28: =+'PI Budget'!A30 -> OPS | C28: 0 | G28: =+C28/12*O28 -> 0 | H28: =+G28*1.03 -> 0 | I28: =+H28*1.03 -> 0 | J28: =+I28*1.03 -> 0 | K28: =+J28*1.03 -> 0 | L28: =SUM(G28:K28) -> 0 | P28: 12
A29: =+'PI Budget'!A31 -> OPS | C29: 0 | G29: =+C29/12*O29 -> 0 | H29: =+G29*1.03 -> 0 | I29: =+H29*1.03/2 -> 0 | J29: =+I29*1.03 -> 0 | K29: =+J29*1.03 -> 0 | L29: =SUM(G29:K29) -> 0 | P29: 12
A30: =+'PI Budget'!A32 -> OPS | C30: 0 | G30: =+C30/12*O30 -> 0 | H30: =+G30*1.03 -> 0 | I30: =+H30*1.03/2 -> 0 | J30: =+I30*1.03 -> 0 | K30: =+J30*1.03 -> 0 | L30: =SUM(G30:K30) -> 0 | P30: 12
A31: =+'PI Budget'!A33 -> OPS | B31: =+C31/P31 -> 0 | C31: 0 | G31: =+C31/12*O31 -> 0 | H31: =+G31*1.03 -> 0 | I31: =+H31*1.03/2 -> 0 | J31: =+I31*1.03 -> 0 | K31: =+J31*1.03 -> 0 | L31: =SUM(G31:K31) -> 0 | P31: 12 | Q31: =+O31/P31 -> 0 | S31: OPS | T31: =+U31/AG31 -> 0 | U31: =+V31+W31+X31 -> 0 | Y31: 0 | Z31: =+Y31*1.03 -> 0 | AA31: =+Z31*1.03 -> 0 | AB31: =+AA31*1.03 -> 0 | AC31: =+AB31*1.03 -> 0 | AD31: =SUM(Y31:AC31) -> 0 | AF31: 0 | AG31: 12 | AH31: =+AF31/AG31 -> 0
A32: =+'PI Budget'!A34 -> Undergraduate Students | B32: =+C32/P32 -> 0 | C32: =+D32+E32+F32 -> 0 | G32: =(ROUND(C32*Q32,0)) -> 0 | H32: =+ROUND(G32*1.03,0) -> 0 | I32: =+ROUND(H32*1.03,0) -> 0 | J32: =+ROUND(I32*1.03,0) -> 0 | K32: =+ROUND(J32*1.03,0) -> 0 | L32: =SUM(G32:K32) -> 0 | P32: 12 | Q32: =+ROUND(O32/P32,0) -> 0 | S32: Undergraduate Students | T32: =+U32/AG32 -> 0 | U32: =+V32+W32+X32 -> 0 | Y32: 0 | Z32: =+Y32*1.03 -> 0 | AA32: =+Z32*1.03 -> 0 | AB32: =+AA32*1.03 -> 0 | AC32: =+AB32*1.03 -> 0 | AD32: =SUM(Y32:AC32) -> 0 | AF32: =10.05*1044 -> 10492.2 | AG32: 12 | AH32: =+AF32/AG32 -> 874.35
A33: =+'PI Budget'!A36 -> Grad Research Asst | B33: =+C33/P33 -> 0 | C33: =+D33+E33+F33 -> 0 | G33: 0 | I33: =+ROUND(H33*1.03,0) -> 0 | J33: =+ROUND(I33*1.03,0) -> 0 | K33: =+ROUND(J33*1.03,0) -> 0 | L33: =SUM(G33:K33) -> 0 | P33: 12 | Q33: =+ROUND(O33/P33,0) -> 0 | S33: Graduate Students | T33: =+U33/AG33 -> 0 | U33: =+V33+W33+X33 -> 0 | Y33: 0 | Z33: =+Y33*1.03 -> 0 | AA33: =+Z33*1.03 -> 0 | AB33: =+AA33*1.03 -> 0 | AC33: =+AB33*1.03 -> 0 | AD33: =SUM(Y33:AC33) -> 0 | AF33: 18500 | AG33: 12 | AH33: =+AF33/AG33 -> 1541.6667
A34: Subtotal Salaries | G34: =SUM(G15:G33) -> 0 | H34: =SUM(H15:H33) -> 0 | I34: =SUM(I15:I33) -> 0 | J34: =SUM(J15:J33) -> 0 | K34: =SUM(K15:K33) -> 0 | L34: =SUM(G34:K34) -> 0 | S34: Subtotal Salaries | Y34: =SUM(Y15:Y33) -> 0 | Z34: =SUM(Z15:Z33) -> 0 | AA34: =SUM(AA15:AA33) -> 0 | AB34: =SUM(AB15:AB33) -> 0 | AC34: =SUM(AC15:AC33) -> 0 | AD34: =SUM(Y34:AC34) -> 0
A36: Fringe Benefits | S36: Fringe Benefits
A37: Faculty | C37: 0.31 | G37: =ROUND(SUM(G15:G20)*$C$37,0) -> 0 | H37: =ROUND(SUM(H15:H20)*$C$37,0) -> 0 | I37: =ROUND(SUM(I15:I20)*$C$37,0) -> 0 | J37: =ROUND(SUM(J15:J20)*$C$37,0) -> 0 | K37: =ROUND(SUM(K15:K20)*$C$37,0) -> 0 | L37: =SUM(G37:K37) -> 0 | S37: Faculty | U37: 0.28 | Y37: =SUM(Y15:Y20)*$C$37 -> 0 | Z37: =SUM(Z15:Z20)*$C$37 -> 0 | AA37: =SUM(AA15:AA20)*$C$37 -> 0 | AB37: =SUM(AB15:AB20)*$C$37 -> 0 | AC37: =SUM(AC15:AC20)*$C$37 -> 0 | AD37: =SUM(Y37:AC37) -> 0
A38: A&P | C38: 0.39 | G38: 0 | H38: =ROUND((H23+H22+H21)*$C$38,0) -> 0 | I38: =ROUND((I23+I22+I21)*$C$38,0) -> 0 | J38: =ROUND((J23+J22+J21)*$C$38,0) -> 0 | K38: =ROUND((K23+K22+K21)*$C$38,0) -> 0 | L38: =SUM(G38:K38) -> 0 | S38: A&P | U38: 0.37 | Y38: =(Y23)*$C$38 -> 0 | Z38: =(Z23)*$C$38 -> 0 | AA38: =(AA23)*$C$38 -> 0 | AB38: =(AB23)*$C$38 -> 0 | AC38: =(AC23)*$C$38 -> 0 | AD38: =SUM(Y38:AC38) -> 0
A39: USPS | C39: 0.52 | G39: =ROUND((G24)*$C$39,0) -> 0 | H39: =ROUND((H24)*$C$39,0) -> 0 | I39: =ROUND((I24)*$C$39,0) -> 0 | J39: =ROUND((J24)*$C$39,0) -> 0 | K39: =ROUND((K24)*$C$39,0) -> 0 | L39: =SUM(G39:K39) -> 0 | S39: USPS | U39: 0.5 | Y39: =(Y24)*$C$39 -> 0 | Z39: =(Z24)*$C$39 -> 0 | AA39: =(AA24)*$C$39 -> 0 | AB39: =(AB24)*$C$39 -> 0 | AC39: =(AC24)*$C$39 -> 0 | AD39: =SUM(Y39:AC39) -> 0
A40: Post Doc | C40: 0.23 | G40: =+ROUND(G25*$C$40,0) -> 0 | H40: =+ROUND(H25*$C$40,0) -> 0 | I40: =+ROUND(I25*$C$40,0) -> 0 | J40: =+ROUND(J25*$C$40,0) -> 0 | K40: =+ROUND(K25*$C$40,0) -> 0 | L40: =SUM(G40:K40) -> 0 | S40: Post Doc | U40: 0.22 | Y40: =+Y25*$C$40 -> 0 | Z40: =+Z25*$C$40 -> 0 | AA40: =+AA25*$C$40 -> 0 | AB40: =+AB25*$C$40 -> 0 | AC40: =+AC25*$C$40 -> 0 | AD40: =SUM(Y40:AC40) -> 0
A41: OPS | C41: 0.14 | G41: =+ROUND(SUM(G26:G31)*$C$41,0) -> 0 | H41: =+ROUND(SUM(H26:H31)*$C$41,0) -> 0 | I41: =+ROUND(SUM(I26:I31)*$C$41,0) -> 0 | J41: =+ROUND(SUM(J26:J31)*$C$41,0) -> 0 | K41: =+ROUND(SUM(K26:K31)*$C$41,0) -> 0 | L41: =SUM(G41:K41) -> 0 | S41: OPS | U41: 0.12 | Y41: =+Y31*$C$41 -> 0 | Z41: =+Z31*$C$41 -> 0 | AA41: =+AA31*$C$41 -> 0 | AB41: =+AB31*$C$41 -> 0 | AC41: =+AC31*$C$41 -> 0 | AD41: =SUM(Y41:AC41) -> 0
A42: Undergrad/Grad Students | C42: 0.02 | G42: =ROUND(SUM(G32:G33)*$C$42,0) -> 0 | H42: =ROUND(SUM(H32:H33)*$C$42,0) -> 0 | I42: =ROUND(SUM(I32:I33)*$C$42,0) -> 0 | J42: =ROUND(SUM(J32:J33)*$C$42,0) -> 0 | K42: =ROUND(SUM(K32:K33)*$C$42,0) -> 0 | L42: =SUM(G42:K42) -> 0 | S42: Undergrad/Grad Students | U42: 0.02 | Y42: =SUM(Y32:Y33)*$C$42 -> 0 | Z42: =SUM(Z32:Z33)*$C$42 -> 0 | AA42: =SUM(AA32:AA33)*$C$42 -> 0 | AB42: =SUM(AB32:AB33)*$C$42 -> 0 | AC42: =SUM(AC32:AC33)*$C$42 -> 0 | AD42: =SUM(Y42:AC42) -> 0
A43: Subtotal Fringe Benefits | G43: =SUM(G37:G42) -> 0 | H43: =SUM(H37:H42) -> 0 | I43: =SUM(I37:I42) -> 0 | J43: =SUM(J37:J42) -> 0 | K43: =SUM(K37:K42) -> 0 | L43: =SUM(G43:K43) -> 0 | S43: Subtotal Fringe Benefits | Y43: =SUM(Y37:Y42) -> 0 | Z43: =SUM(Z37:Z42) -> 0 | AA43: =SUM(AA37:AA42) -> 0 | AB43: =SUM(AB37:AB42) -> 0 | AC43: =SUM(AC37:AC42) -> 0 | AD43: =SUM(Y43:AC43) -> 0 | AJ43: TRAVEL
A45: Travel | O45: # Travelers | P45: Days | Q45: # Trips | S45: Travel | AF45: # Travelers | AG45: Days | AH45: # Trips | AJ45: DESTINATION: Orlando, FL to TBD for Conference 1
A46: =+'PI Budget'!A51 -> Conference Travel | G46: =+AR60+AR78 -> 0 | H46: =+ROUND(G46*1.05,0) -> 0 | I46: =+ROUND(H46*1.05,0) -> 0 | J46: =+ROUND(I46*1.05,0) -> 0 | K46: =+ROUND(J46*1.05,0) -> 0 | L46: =SUM(G46:K46) -> 0 | N46: Conference | S46: Conference Travel | Y46: =+PersonnelTravelTuitionWorksheet!Z73+PersonnelTravelTuitionWorksheet!Z60+PersonnelTravelTuitionWorksheet!Z47 -> 0 | Z46: =+Y46*1.05 -> 0 | AA46: =+Z46*1.05 -> 0 | AB46: =+AA46*1.05 -> 0 | AC46: =+AB46*1.05 -> 0 | AD46: =SUM(Y46:AC46) -> 0 | AJ46: TRAVELER:
...

Sheet College 3
A2: (Unhide Columns R-AH for Cost Share Budget) | S2: Cost Share Budget
G3: College | H3: Credit Split | I3: TITLE: | J3: =+'PI Budget'!F4:R5 -> #VALUE! | Y3: Cred Split | Z3: IDC Spilt | AA3: TITLE:
A4: PI NAME: | B4: =+'PI Budget'!B5:E5 -> 0 | G4: =+'PI Budget'!#REF! -> #REF! | H4: =+'PI Budget'!#REF! -> #REF! | S4: PI NAME:
A5: CO-PI #1 NAME: | B5: =+'PI Budget'!B6:E6 -> 0 | G5: =+'PI Budget'!#REF! -> #REF! | H5: =+'PI Budget'!#REF! -> #REF! | I5: SPONSOR: | J5: =+'PI Budget'!F6:R6 -> 0 | S5: CO-PI #1 NAME: | AA5: SPONSOR:
A6: CO-PI #2 NAME: | B6: =+'PI Budget'!B7:E7 -> 0 | G6: =+'PI Budget'!#REF! -> #REF! | H6: =+'PI Budget'!#REF! -> #REF! | I6: POP: | J6: =+'PI Budget'!#REF! -> #REF! | K6: to | L6: =+'PI Budget'!R7 -> 0
A7: CO-PI #3 NAME: | B7: =+'PI Budget'!B8:E8 -> 0 | G7: =+'PI Budget'!#REF! -> #REF! | H7: =+'PI Budget'!#REF! -> #REF!
A8: CO-PI #4 NAME: | B8: =+'PI Budget'!B9:E9 -> 0 | G8: =+'PI Budget'!#REF! -> #REF! | H8: =+'PI Budget'!#REF! -> #REF! | I8: MAX BUDGET: | J8: =+'PI Budget'!#REF! -> #REF! | K8: YEARS: | L8: =+'PI Budget'!R9 -> 0
A9: CO-PI #5 NAME: | B9: =+'PI Budget'!B10:E10 -> 0 | G9: =+'PI Budget'!#REF! -> #REF! | H9: =+'PI Budget'!#REF! -> #REF! | I9: LIMITATIONS: | J9: =+'PI Budget'!#REF! -> #REF! | S9: CO-PI #2 NAME: | AA9: POP:
A11: CO-PI BUDGET | C11: =+B6 -> 0 | H11: +G6 | S11: SPONSOR BUDGET
A14: Personnel | B14: Effort % | C14: Months | D14: Fall | E14: Spr | F14: Sum | G14: Year 1 | H14: Year 2 | I14: Year 3 | J14: Year 4 | K14: Year 5 | L14: Total | O14: Salary | P14: Contract | Q14: Monthly | S14: Personnel | T14: Effort % | U14: Months | V14: Fall | W14: Spr | X14: Sum | Y14: Year 1 | Z14: Year 2 | AA14: Year 3 | AB14: Year 4 | AC14: Year 5 | AD14: Total | AF14: Salary | AG14: Contract | AH14: Monthly
A15: =+B4 -> 0 | B15: =+C15/P15 -> 0 | C15: =+F15+E15+D15 -> 0 | G15: =(ROUND(C15*Q15,0)) -> 0 | H15: =+ROUND(G15*1.03,0) -> 0 | I15: =+ROUND(H15*1.03,0) -> 0 | J15: =+ROUND(I15*1.03,0) -> 0 | K15: =+ROUND(J15*1.03,0) -> 0 | L15: =SUM(G15:K15) -> 0 | O15: =+'PI Budget'!V16 -> 0 | P15: =+'PI Budget'!W16 -> 9 | Q15: =+ROUND(O15/P15,0) -> 0 | S15: =+T4 -> 0 | T15: =+U15/AG15 -> 0 | U15: =+X15+W15+V15 -> 0 | V15: 0 | Y15: =+U15*AH15 -> 0 | Z15: =+Y15*1.03 -> 0 | AA15: =+Z15*1.03 -> 0 | AB15: =+AA15*1.03 -> 0 | AC15: =+AB15*1.03 -> 0 | AD15: =SUM(Y15:AC15) -> 0 | AF15: 10000 | AG15: 9 | AH15: =+AF15/AG15 -> 1111.1111
A16: =+B5 -> 0 | B16: =+C16/P16 -> 0 | C16: =+F16+E16+D16 -> 0 | G16: =(ROUND(C16*Q16,0)) -> 0 | H16: =+ROUND(G16*1.03,0) -> 0 | I16: =+ROUND(H16*1.03,0) -> 0 | J16: =+ROUND(I16*1.03,0) -> 0 | K16: =+ROUND(J16*1.03,0) -> 0 | L16: =SUM(G16:K16) -> 0 | O16: =+'PI Budget'!V17 -> 0 | P16: =+'PI Budget'!W17 -> 9 | Q16: =+ROUND(O16/P16,0) -> 0 | S16: =+T5 -> 0 | T16: =+U16/AG16 -> 0 | U16: =+X16+W16+V16 -> 0 | Y16: =+U16*AH16 -> 0 | Z16: =+Y16*1.03 -> 0 | AA16: =+Z16*1.03 -> 0 | AB16: =+AA16*1.03 -> 0 | AC16: =+AB16*1.03 -> 0 | AD16: =SUM(Y16:AC16) -> 0 | AF16: 0 | AG16: 9 | AH16: =+AF16/AG16 -> 0
A17: =+B6 -> 0 | B17: =+C17/P17 -> 0 | C17: =+F17+E17+D17 -> 0 | G17: =(ROUND(C17*Q17,0)) -> 0 | H17: =+ROUND(G17*1.03,0) -> 0 | I17: =+ROUND(H17*1.03,0) -> 0 | J17: =+ROUND(I17*1.03,0) -> 0 | K17: =+ROUND(J17*1.03,0) -> 0 | L17: =SUM(G17:K17) -> 0 | O17: =+'PI Budget'!V18 -> 0 | P17: =+'PI Budget'!W18 -> 9 | Q17: =+ROUND(O17/P17,0) -> 0 | S17: =+T9 -> 0 | T17: =+U17/AG17 -> 0 | U17: =+X17+W17+V17 -> 0 | Y17: =+U17*AH17 -> 0 | Z17: =+Y17*1.03 -> 0 | AA17: =+Z17*1.03 -> 0 | AB17: =+AA17*1.03 -> 0 | AC17: =+AB17*1.03 -> 0 | AD17: =SUM(Y17:AC17) -> 0 | AF17: 0 | AG17: 9 | AH17: =+AF17/AG17 -> 0
A18: =+B7 -> 0 | B18: =+C18/P18 -> 0 | C18: =+F18+E18+D18 -> 0 | G18: =+C18*Q18 -> 0 | H18: =+G18*1.03 -> 0 | I18: =+H18*1.03 -> 0 | J18: =+I18*1.03 -> 0 | K18: =+J18*1.03 -> 0 | L18: =SUM(G18:K18) -> 0 | O18: =+'PI Budget'!V19 -> 0 | P18: =+'PI Budget'!W19 -> 9 | Q18: =+O18/P18 -> 0 | T18: =+U18/AG18 -> 0 | U18: =+X18+W18+V18 -> 0 | Y18: =+U18*AH18 -> 0 | Z18: =+Y18*1.03 -> 0 | AA18: =+Z18*1.03 -> 0 | AB18: =+AA18*1.03 -> 0 | AC18: =+AB18*1.03 -> 0 | AD18: =SUM(Y18:AC18) -> 0 | AF18: 0 | AG18: 9 | AH18: =+AF18/AG18 -> 0
A19: =+B8 -> 0 | B19: =+C19/P19 -> 0 | C19: =+F19+E19+D19 -> 0 | G19: =+C19*Q19 -> 0 | H19: =+G19*1.03 -> 0 | I19: =+H19*1.03 -> 0 | J19: =+I19*1.03 -> 0 | K19: =+J19*1.03 -> 0 | L19: =SUM(G19:K19) -> 0 | O19: =+'PI Budget'!V20 -> 0 | P19: =+'PI Budget'!W20 -> 9 | Q19: =+O19/P19 -> 0 | T19: =+U19/AG19 -> 0 | U19: =+X19+W19+V19 -> 0 | Y19: =+U19*AH19 -> 0 | Z19: =+Y19*1.03 -> 0 | AA19: =+Z19*1.03 -> 0 | AB19: =+AA19*1.03 -> 0 | AC19: =+AB19*1.03 -> 0 | AD19: =SUM(Y19:AC19) -> 0 | AF19: 0 | AG19: 9 | AH19: =+AF19/AG19 -> 0
A20: =+B9 -> 0 | B20: =+C20/P20 -> 0 | C20: =+F20+E20+D20 -> 0 | G20: =+C20*Q20 -> 0 | H20: =+G20*1.03 -> 0 | I20: =+H20*1.03 -> 0 | J20: =+I20*1.03 -> 0 | K20: =+J20*1.03 -> 0 | L20: =SUM(G20:K20) -> 0 | O20: =+'PI Budget'!V21 -> 0 | P20: =+'PI Budget'!W21 -> 9 | Q20: =+O20/P20 -> 0 | T20: =+U20/AG20 -> 0 | U20: =+X20+W20+V20 -> 0 | Y20: =+U20*AH20 -> 0 | Z20: =+Y20*1.03 -> 0 | AA20: =+Z20*1.03 -> 0 | AB20: =+AA20*1.03 -> 0 | AC20: =+AB20*1.03 -> 0 | AD20: =SUM(Y20:AC20) -> 0 | AF20: 0 | AG20: 9 | AH20: =+AF20/AG20 -> 0
A21: =+'PI Budget'!A23 -> A&P | B21: =+C21/P21 -> 0 | C21: 0 | G21: =+O21/12*C21 -> 0 | H21: =+G21*1.03 -> 0 | I21: =+H21*1.03 -> 0 | J21: =+I21*1.03 -> 0 | K21: =+J21*1.03 -> 0 | L21: =SUM(G21:K21) -> 0 | P21: 12 | Q21: =+O21/P21 -> 0
A22: =+'PI Budget'!A24 -> A&P | C22: 0 | G22: =+O22/12*C22 -> 0 | H22: =+G22*1.03 -> 0 | I22: =+H22*1.03 -> 0 | J22: =+I22*1.03 -> 0 | K22: =+J22*1.03 -> 0 | L22: =SUM(G22:K22) -> 0 | P22: 12 | Q22: =+O22/P22 -> 0
A23: =+'PI Budget'!A25 -> A&P | B23: =+C23/P23 -> 0 | C23: =+D23+E23+F23 -> 0 | G23: =(ROUND(C23*Q23,0)) -> 0 | H23: =+ROUND(G23*1.03,0) -> 0 | I23: =+ROUND(H23*1.03,0) -> 0 | J23: =+ROUND(I23*1.03,0) -> 0 | K23: =+ROUND(J23*1.03,0) -> 0 | L23: =SUM(G23:K23) -> 0 | P23: 12 | Q23: =+ROUND(O23/P23,0) -> 0 | S23: A&P | T23: =+U23/AG23 -> 0 | U23: =+V23+W23+X23 -> 0 | Y23: 0 | Z23: =+Y23*1.03 -> 0 | AA23: =+Z23*1.03 -> 0 | AB23: =+AA23*1.03 -> 0 | AC23: =+AB23*1.03 -> 0 | AD23: =SUM(Y23:AC23) -> 0 | AF23: 0 | AG23: 12 | AH23: =+AF23/AG23 -> 0
